Workbook

Sheet Rekapitulace stavby
A1: Export Komplet | BA1: 2.0 | BT1: False | BU1: False | BV1: {314035c9-037f-4032-8112-be26570740a7}
AR2: >> skryté sloupce << | BS2: 1 | BT2: 21
BS3: 0,01 | BT3: 15
D4: REKAPITULACE STAVBY | AS4: v --- níže se nacházejí doplnkové a pomocné údaje k sestavám --- v | BE4: Návod na vyplnění | BS4: 0,01
D5: Kód: | K5: 21/253 | BE5: Měnit lze pouze buňky se žlutým podbarvením!_x000D_ _x000D_ 1) na prvním listu Rekapitulace stavby vyplňte v sestavě_x000D_ _x000D_ a) Souhrnný list_x000D_ - údaje o Uchazeči_x000D_ (přenesou se do ostatních sestav i v jiných listech)_x000D_ _x000D_ b) Rekapitulace objektů_x000D_ - potřebné Ostatní náklady_x000D_ _x000D_ 2) na vybraných listech vyplňte v sestavě_x000D_ _x000D_ a) Krycí list_x000D_ - údaje o Uchazeči, pokud se liší od údajů o Uchazeči na Souhrnném listu_x000D_ (údaje se přenesou do ostatních sestav v daném listu)_x000D_ _x000D_ b) Rekapitulace rozpočtu_x000D_ - potřebné Ostatní náklady_x000D_ _x000D_ c) Celkové náklady za stavbu_x000D_ - ceny u položek_x000D_ - množství, pokud má žluté podbarvení_x000D_ - a v případě potřeby poznámku (ta je ve skrytém sloupci) | BS5: 1
D6: Stavba: | K6: Oprava střechy a teras, Bělohorská 1688-1689, Praha 6 | BS6: 1
D7: KSO: | AK7: CC-CZ: | BS7: 1
D8: Místo: | K8: Bělohorská 1688-1689, Praha 6 - Břevnov | AK8: Datum: | AN8: 11. 6. 2021 | BS8: 1
BS9: 1
D10: Zadavatel: | AK10: IČ: | BS10: 1
E11: AUSTIS-REAL s.r.o., Pod Marjánkou 1675/41, Praha 6 | AK11: DIČ: | BS11: 1
BS12: 1
D13: Uchazeč: | AK13: IČ: | AN13: Vyplň údaj | BS13: 1
E14: Vyplň údaj | AK14: DIČ: | AN14: Vyplň údaj | BS14: 1
BS15: False
D16: Projektant: | AK16: IČ: | BS16: False
E17: Ing. Jan Vojtěchovský | AK17: DIČ: | BS17: True
BS18: 0,01
D19: Zpracovatel: | AK19: IČ: | BS19: 0,01
E20: Ing. Petr Kopecký | AK20: DIČ: | BS20: True
D22: Poznámka:
D26: Cena bez DPH | AK26: =ROUND(AG94,2) -> 0
L28: Sazba daně | W28: Základ daně | AK28: Výše daně
D29: DPH | F29: základní | L29: 0.21 | W29: =ROUND(AZ94, 2) -> 0 | AK29: =ROUND(AV94, 2) -> 0
F30: snížená | L30: 0.15 | W30: =ROUND(BA94, 2) -> 0 | AK30: =ROUND(AW94, 2) -> 0
F31: zákl. přenesená | L31: 0.21 | W31: =ROUND(BB94, 2) -> 0 | AK31: 0
F32: sníž. přenesená | L32: 0.15 | W32: =ROUND(BC94, 2) -> 0 | AK32: 0
F33: nulová | L33: 0 | W33: =ROUND(BD94, 2) -> 0 | AK33: 0
D35: Cena s DPH | T35: v | X35: CZK | AK35: =SUM(AK26:AK33) -> 0
D49: Projektant | AH49: Zpracovatel
D60: Datum a podpis: | V60: Razítko | AH60: Datum a podpis: | AM60: Razítko
D64: Objednavatel | AH64: Uchazeč
D75: Datum a podpis: | V75: Razítko | AH75: Datum a podpis: | AM75: Razítko
C82: REKAPITULACE OBJEKTŮ STAVBY A SOUPISŮ PRACÍ
C84: Kód: | L84: =K5 -> 21/253
C85: Stavba: | L85: =K6 -> Oprava střechy a teras, Bělohorská 1688-1689, Praha 6
C87: Místo: | L87: =IF(K8="","",K8) -> Bělohorská 1688-1689, Praha 6 - Břevnov | AI87: Datum: | AM87: =IF(AN8= "","",AN8) -> 11. 6. 2021
C89: Zadavatel: | L89: =IF(E11= "","",E11) -> AUSTIS-REAL s.r.o., Pod Marjánkou 1675/41, Praha 6 | AI89: Projektant: | AM89: =IF(E17="","",E17) -> Ing. Jan Vojtěchovský | AS89: Informatívní údaje z listů zakázek
C90: Uchazeč: | L90: =IF(E14= "Vyplň údaj","",E14) | AI90: Zpracovatel: | AM90: =IF(E20="","",E20) -> Ing. Petr Kopecký
C92: Kód | I92: Popis | AG92: Cena bez DPH [CZK] | AN92: Cena s DPH [CZK] | AQ92: Typ | AS92: z toho Ostat._x000D_ náklady [CZK] | AT92: DPH [CZK] | AU92: Normohodiny [h] | AV92: DPH základní [CZK] | AW92: DPH snížená [CZK] | AX92: DPH základní přenesená_x000D_ [CZK] | AY92: DPH snížená přenesená_x000D_ [CZK] | AZ92: Základna_x000D_ DPH základní | BA92: Základna_x000D_ DPH snížená | BB92: Základna_x000D_ DPH zákl. přenesená | BC92: Základna_x000D_ DPH sníž. přenesená | BD92: Základna_x000D_ DPH nulová
...

Sheet 01 - Střecha
L2: >> skryté sloupce << | AT2: {7a323d8f-5752-4346-b526-968960b7aea5}
AT3: 1
D4: KRYCÍ LIST SOUPISU PRACÍ | M4: v --- níže se nacházejí doplnkové a pomocné údaje k sestavám --- v | AT4: False
D6: Stavba:
E7: ='Rekapitulace stavby'!K6 -> Oprava střechy a teras, Bělohorská 1688-1689, Praha 6
D8: Objekt:
E9: 01 - Střecha
D11: KSO: | I11: CC-CZ:
D12: Místo: | F12: Bělohorská 1688-1689, Praha 6 - Břevnov | I12: Datum: | J12: ='Rekapitulace stavby'!AN8 -> 11. 6. 2021
D14: Zadavatel: | I14: IČ:
E15: AUSTIS-REAL s.r.o., Pod Marjánkou 1675/41, Praha 6 | I15: DIČ:
D17: Uchazeč: | I17: IČ: | J17: ='Rekapitulace stavby'!AN13 -> Vyplň údaj
E18: ='Rekapitulace stavby'!E14 -> Vyplň údaj | I18: DIČ: | J18: ='Rekapitulace stavby'!AN14 -> Vyplň údaj
D20: Projektant: | I20: IČ:
E21: Ing. Jan Vojtěchovský | I21: DIČ:
D23: Zpracovatel: | I23: IČ:
E24: Ing. Petr Kopecký | I24: DIČ:
D26: Poznámka:
D30: Cena bez DPH | J30: =ROUND(J130, 2) -> 0
F32: Základ daně | I32: Sazba daně | J32: Výše daně
D33: DPH | E33: základní | F33: =ROUND((ROUND((SUM(BE130:BE332)), 2) + SUM(BE334:BE383)), 2) -> 0 | I33: 0.21 | J33: =ROUND((ROUND(((SUM(BE130:BE332))*I33), 2) + (SUM(BE334:BE383)*I33)), 2) -> 0
E34: snížená | F34: =ROUND((ROUND((SUM(BF130:BF332)), 2) + SUM(BF334:BF383)), 2) -> 0 | I34: 0.15 | J34: =ROUND((ROUND(((SUM(BF130:BF332))*I34), 2) + (SUM(BF334:BF383)*I34)), 2) -> 0
E35: zákl. přenesená | F35: =ROUND((ROUND((SUM(BG130:BG332)), 2) + SUM(BG334:BG383)), 2) -> 0 | I35: 0.21 | J35: =0 -> 0
E36: sníž. přenesená | F36: =ROUND((ROUND((SUM(BH130:BH332)), 2) + SUM(BH334:BH383)), 2) -> 0 | I36: 0.15 | J36: =0 -> 0
E37: nulová | F37: =ROUND((ROUND((SUM(BI130:BI332)), 2) + SUM(BI334:BI383)), 2) -> 0 | I37: 0 | J37: =0 -> 0
D39: Cena s DPH | G39: v | H39: CZK | J39: =SUM(J30:J37) -> 0
D50: Projektant | G50: Zpracovatel
D61: Datum a podpis: | F61: Razítko | G61: Datum a podpis: | J61: Razítko
D65: Objednavatel | G65: Uchazeč
D76: Datum a podpis: | F76: Razítko | G76: Datum a podpis: | J76: Razítko
C82: REKAPITULACE ČLENĚNÍ SOUPISU PRACÍ
C84: Stavba:
E85: =E7 -> Oprava střechy a teras, Bělohorská 1688-1689, Praha 6
C86: Objekt:
E87: =E9 -> 01 - Střecha
C89: Místo: | F89: =F12 -> Bělohorská 1688-1689, Praha 6 - Břevnov | I89: Datum: | J89: =IF(J12="","",J12) -> 11. 6. 2021
C91: Zadavatel: | F91: =E15 -> AUSTIS-REAL s.r.o., Pod Marjánkou 1675/41, Praha 6 | I91: Projektant: | J91: =E21 -> Ing. Jan Vojtěchovský
C92: Uchazeč: | F92: =IF(E18="","",E18) -> Vyplň údaj | I92: Zpracovatel: | J92: =E24 -> Ing. Petr Kopecký
C94: Kód dílu - Popis | J94: Cena celkem [CZK]
C96: Náklady ze soupisu prací | J96: =J130 -> 0 | AU96: -1
...

Sheet 02 - Terasy
L2: >> skryté sloupce << | AT2: {7f5bfbbe-c658-46a6-9dd8-5309c600aabb}
AT3: 1
D4: KRYCÍ LIST SOUPISU PRACÍ | M4: v --- níže se nacházejí doplnkové a pomocné údaje k sestavám --- v | AT4: False
D6: Stavba:
E7: ='Rekapitulace stavby'!K6 -> Oprava střechy a teras, Bělohorská 1688-1689, Praha 6
D8: Objekt:
E9: 02 - Terasy
D11: KSO: | I11: CC-CZ:
D12: Místo: | F12: Bělohorská 1688-1689, Praha 6 - Břevnov | I12: Datum: | J12: ='Rekapitulace stavby'!AN8 -> 11. 6. 2021
D14: Zadavatel: | I14: IČ:
E15: AUSTIS-REAL s.r.o., Pod Marjánkou 1675/41, Praha 6 | I15: DIČ:
D17: Uchazeč: | I17: IČ: | J17: ='Rekapitulace stavby'!AN13 -> Vyplň údaj
E18: ='Rekapitulace stavby'!E14 -> Vyplň údaj | I18: DIČ: | J18: ='Rekapitulace stavby'!AN14 -> Vyplň údaj
D20: Projektant: | I20: IČ:
E21: Ing. Jan Vojtěchovský | I21: DIČ:
D23: Zpracovatel: | I23: IČ:
E24: Ing. Petr Kopecký | I24: DIČ:
D26: Poznámka:
D30: Cena bez DPH | J30: =ROUND(J128, 2) -> 0
F32: Základ daně | I32: Sazba daně | J32: Výše daně
D33: DPH | E33: základní | F33: =ROUND((ROUND((SUM(BE128:BE254)), 2) + SUM(BE256:BE305)), 2) -> 0 | I33: 0.21 | J33: =ROUND((ROUND(((SUM(BE128:BE254))*I33), 2) + (SUM(BE256:BE305)*I33)), 2) -> 0
E34: snížená | F34: =ROUND((ROUND((SUM(BF128:BF254)), 2) + SUM(BF256:BF305)), 2) -> 0 | I34: 0.15 | J34: =ROUND((ROUND(((SUM(BF128:BF254))*I34), 2) + (SUM(BF256:BF305)*I34)), 2) -> 0
E35: zákl. přenesená | F35: =ROUND((ROUND((SUM(BG128:BG254)), 2) + SUM(BG256:BG305)), 2) -> 0 | I35: 0.21 | J35: =0 -> 0
E36: sníž. přenesená | F36: =ROUND((ROUND((SUM(BH128:BH254)), 2) + SUM(BH256:BH305)), 2) -> 0 | I36: 0.15 | J36: =0 -> 0
E37: nulová | F37: =ROUND((ROUND((SUM(BI128:BI254)), 2) + SUM(BI256:BI305)), 2) -> 0 | I37: 0 | J37: =0 -> 0
D39: Cena s DPH | G39: v | H39: CZK | J39: =SUM(J30:J37) -> 0
D50: Projektant | G50: Zpracovatel
D61: Datum a podpis: | F61: Razítko | G61: Datum a podpis: | J61: Razítko
D65: Objednavatel | G65: Uchazeč
D76: Datum a podpis: | F76: Razítko | G76: Datum a podpis: | J76: Razítko
C82: REKAPITULACE ČLENĚNÍ SOUPISU PRACÍ
C84: Stavba:
E85: =E7 -> Oprava střechy a teras, Bělohorská 1688-1689, Praha 6
C86: Objekt:
E87: =E9 -> 02 - Terasy
C89: Místo: | F89: =F12 -> Bělohorská 1688-1689, Praha 6 - Břevnov | I89: Datum: | J89: =IF(J12="","",J12) -> 11. 6. 2021
C91: Zadavatel: | F91: =E15 -> AUSTIS-REAL s.r.o., Pod Marjánkou 1675/41, Praha 6 | I91: Projektant: | J91: =E21 -> Ing. Jan Vojtěchovský
C92: Uchazeč: | F92: =IF(E18="","",E18) -> Vyplň údaj | I92: Zpracovatel: | J92: =E24 -> Ing. Petr Kopecký
C94: Kód dílu - Popis | J94: Cena celkem [CZK]
C96: Náklady ze soupisu prací | J96: =J128 -> 0 | AU96: -1
...

Sheet 03 - Vedlejší rozpočtové ...
L2: >> skryté sloupce << | AT2: {1ef61767-b5b3-4f64-8ee5-1e5d2d1188dd}
AT3: 1
D4: KRYCÍ LIST SOUPISU PRACÍ | M4: v --- níže se nacházejí doplnkové a pomocné údaje k sestavám --- v | AT4: False
D6: Stavba:
E7: ='Rekapitulace stavby'!K6 -> Oprava střechy a teras, Bělohorská 1688-1689, Praha 6
D8: Objekt:
E9: 03 - Vedlejší rozpočtové náklady
D11: KSO: | I11: CC-CZ:
D12: Místo: | F12: Bělohorská 1688-1689, Praha 6 - Břevnov | I12: Datum: | J12: ='Rekapitulace stavby'!AN8 -> 11. 6. 2021
D14: Zadavatel: | I14: IČ:
E15: AUSTIS-REAL s.r.o., Pod Marjánkou 1675/41, Praha 6 | I15: DIČ:
D17: Uchazeč: | I17: IČ: | J17: ='Rekapitulace stavby'!AN13 -> Vyplň údaj
E18: ='Rekapitulace stavby'!E14 -> Vyplň údaj | I18: DIČ: | J18: ='Rekapitulace stavby'!AN14 -> Vyplň údaj
D20: Projektant: | I20: IČ:
E21: Ing. Jan Vojtěchovský | I21: DIČ:
D23: Zpracovatel: | I23: IČ:
E24: Ing. Petr Kopecký | I24: DIČ:
D26: Poznámka:
D30: Cena bez DPH | J30: =ROUND(J123, 2) -> 0
F32: Základ daně | I32: Sazba daně | J32: Výše daně
D33: DPH | E33: základní | F33: =ROUND((ROUND((SUM(BE123:BE139)), 2) + SUM(BE141:BE190)), 2) -> 0 | I33: 0.21 | J33: =ROUND((ROUND(((SUM(BE123:BE139))*I33), 2) + (SUM(BE141:BE190)*I33)), 2) -> 0
E34: snížená | F34: =ROUND((ROUND((SUM(BF123:BF139)), 2) + SUM(BF141:BF190)), 2) -> 0 | I34: 0.15 | J34: =ROUND((ROUND(((SUM(BF123:BF139))*I34), 2) + (SUM(BF141:BF190)*I34)), 2) -> 0
E35: zákl. přenesená | F35: =ROUND((ROUND((SUM(BG123:BG139)), 2) + SUM(BG141:BG190)), 2) -> 0 | I35: 0.21 | J35: =0 -> 0
E36: sníž. přenesená | F36: =ROUND((ROUND((SUM(BH123:BH139)), 2) + SUM(BH141:BH190)), 2) -> 0 | I36: 0.15 | J36: =0 -> 0
E37: nulová | F37: =ROUND((ROUND((SUM(BI123:BI139)), 2) + SUM(BI141:BI190)), 2) -> 0 | I37: 0 | J37: =0 -> 0
D39: Cena s DPH | G39: v | H39: CZK | J39: =SUM(J30:J37) -> 0
D50: Projektant | G50: Zpracovatel
D61: Datum a podpis: | F61: Razítko | G61: Datum a podpis: | J61: Razítko
D65: Objednavatel | G65: Uchazeč
D76: Datum a podpis: | F76: Razítko | G76: Datum a podpis: | J76: Razítko
C82: REKAPITULACE ČLENĚNÍ SOUPISU PRACÍ
C84: Stavba:
E85: =E7 -> Oprava střechy a teras, Bělohorská 1688-1689, Praha 6
C86: Objekt:
E87: =E9 -> 03 - Vedlejší rozpočtové náklady
C89: Místo: | F89: =F12 -> Bělohorská 1688-1689, Praha 6 - Břevnov | I89: Datum: | J89: =IF(J12="","",J12) -> 11. 6. 2021
C91: Zadavatel: | F91: =E15 -> AUSTIS-REAL s.r.o., Pod Marjánkou 1675/41, Praha 6 | I91: Projektant: | J91: =E21 -> Ing. Jan Vojtěchovský
C92: Uchazeč: | F92: =IF(E18="","",E18) -> Vyplň údaj | I92: Zpracovatel: | J92: =E24 -> Ing. Petr Kopecký
C94: Kód dílu - Popis | J94: Cena celkem [CZK]
C96: Náklady ze soupisu prací | J96: =J123 -> 0 | AU96: -1
...
