Workbook

Sheet Rekapitulace stavby
A1: Export Komplet | BA1: 2.0 | BT1: False | BU1: False | BV1: {314035c9-037f-4032-8112-be26570740a7}
AR2: >> skryté sloupce << | BS2: 1 | BT2: 21
BS3: 0,01 | BT3: 15
D4: REKAPITULACE STAVBY | AS4: v --- níže se nacházejí doplnkové a pomocné údaje k sestavám --- v | BE4: Návod na vyplnění | BS4: 0,01
D5: Kód: | K5: 21/253 | BE5: Měnit lze pouze buňky se žlutým podbarvením!_x000D_ _x000D_ 1) na prvním listu Rekapitulace stavby vyplňte v sestavě_x000D_ _x000D_ a) Souhrnný list_x000D_ - údaje o Uchazeči_x000D_ (přenesou se do ostatních sestav i v jiných listech)_x000D_ _x000D_ b) Rekapitulace objektů_x000D_ - potřebné Ostatní náklady_x000D_ _x000D_ 2) na vybraných listech vyplňte v sestavě_x000D_ _x000D_ a) Krycí list_x000D_ - údaje o Uchazeči, pokud se liší od údajů o Uchazeči na Souhrnném listu_x000D_ (údaje se přenesou do ostatních sestav v daném listu)_x000D_ _x000D_ b) Rekapitulace rozpočtu_x000D_ - potřebné Ostatní náklady_x000D_ _x000D_ c) Celkové náklady za stavbu_x000D_ - ceny u položek_x000D_ - množství, pokud má žluté podbarvení_x000D_ - a v případě potřeby poznámku (ta je ve skrytém sloupci) | BS5: 1
D6: Stavba: | K6: Oprava střechy a teras, Bělohorská 1688-1689, Praha 6 | BS6: 1
D7: KSO: | AK7: CC-CZ: | BS7: 1
D8: Místo: | K8: Bělohorská 1688-1689, Praha 6 - Břevnov | AK8: Datum: | AN8: 11. 6. 2021 | BS8: 1
BS9: 1
D10: Zadavatel: | AK10: IČ: | BS10: 1
E11: AUSTIS-REAL s.r.o., Pod Marjánkou 1675/41, Praha 6 | AK11: DIČ: | BS11: 1
BS12: 1
D13: Uchazeč: | AK13: IČ: | AN13: Vyplň údaj | BS13: 1
E14: Vyplň údaj | AK14: DIČ: | AN14: Vyplň údaj | BS14: 1
BS15: False
D16: Projektant: | AK16: IČ: | BS16: False
E17: Ing. Jan Vojtěchovský | AK17: DIČ: | BS17: True
BS18: 0,01
D19: Zpracovatel: | AK19: IČ: | BS19: 0,01
E20: Ing. Petr Kopecký | AK20: DIČ: | BS20: True
D22: Poznámka:
D26: Cena bez DPH | AK26: =ROUND(AG94,2) -> 0
L28: Sazba daně | W28: Základ daně | AK28: Výše daně
D29: DPH | F29: základní | L29: 0.21 | W29: =ROUND(AZ94, 2) -> 0 | AK29: =ROUND(AV94, 2) -> 0
F30: snížená | L30: 0.15 | W30: =ROUND(BA94, 2) -> 0 | AK30: =ROUND(AW94, 2) -> 0
F31: zákl. přenesená | L31: 0.21 | W31: =ROUND(BB94, 2) -> 0 | AK31: 0
F32: sníž. přenesená | L32: 0.15 | W32: =ROUND(BC94, 2) -> 0 | AK32: 0
F33: nulová | L33: 0 | W33: =ROUND(BD94, 2) -> 0 | AK33: 0
D35: Cena s DPH | T35: v | X35: CZK | AK35: =SUM(AK26:AK33) -> 0
D49: Projektant | AH49: Zpracovatel
D60: Datum a podpis: | V60: Razítko | AH60: Datum a podpis: | AM60: Razítko
D64: Objednavatel | AH64: Uchazeč
D75: Datum a podpis: | V75: Razítko | AH75: Datum a podpis: | AM75: Razítko
C82: REKAPITULACE OBJEKTŮ STAVBY A SOUPISŮ PRACÍ
C84: Kód: | L84: =K5 -> 21/253
C85: Stavba: | L85: =K6 -> Oprava střechy a teras, Bělohorská 1688-1689, Praha 6
C87: Místo: | L87: =IF(K8="","",K8) -> Bělohorská 1688-1689, Praha 6 - Břevnov | AI87: Datum: | AM87: =IF(AN8= "","",AN8) -> 11. 6. 2021
C89: Zadavatel: | L89: =IF(E11= "","",E11) -> AUSTIS-REAL s.r.o., Pod Marjánkou 1675/41, Praha 6 | AI89: Projektant: | AM89: =IF(E17="","",E17) -> Ing. Jan Vojtěchovský | AS89: Informatívní údaje z listů zakázek
C90: Uchazeč: | L90: =IF(E14= "Vyplň údaj","",E14) | AI90: Zpracovatel: | AM90: =IF(E20="","",E20) -> Ing. Petr Kopecký
C92: Kód | I92: Popis | AG92: Cena bez DPH [CZK] | AN92: Cena s DPH [CZK] | AQ92: Typ | AS92: z toho Ostat._x000D_ náklady [CZK] | AT92: DPH [CZK] | AU92: Normohodiny [h] | AV92: DPH základní [CZK] | AW92: DPH snížená [CZK] | AX92: DPH základní přenesená_x000D_ [CZK] | AY92: DPH snížená přenesená_x000D_ [CZK] | AZ92: Základna_x000D_ DPH základní | BA92: Základna_x000D_ DPH snížená | BB92: Základna_x000D_ DPH zákl. přenesená | BC92: Základna_x000D_ DPH sníž. přenesená | BD92: Základna_x000D_ DPH nulová
C94: Náklady z rozpočtů | AG94: =ROUND(SUM(AG95:AG97),2) -> 0 | AN94: =SUM(AG94,AT94) -> 0 | AS94: =ROUND(SUM(AS95:AS97),2) -> 0 | AT94: =ROUND(SUM(AV94:AW94),2) -> 0 | AU94: =ROUND(SUM(AU95:AU97),5) -> 0 | AV94: =ROUND(AZ94*L29,2) -> 0 | AW94: =ROUND(BA94*L30,2) -> 0 | AX94: =ROUND(BB94*L29,2) -> 0 | AY94: =ROUND(BC94*L30,2) -> 0 | AZ94: =ROUND(SUM(AZ95:AZ97),2) -> 0 | BA94: =ROUND(SUM(BA95:BA97),2) -> 0 | BB94: =ROUND(SUM(BB95:BB97),2) -> 0 | BC94: =ROUND(SUM(BC95:BC97),2) -> 0 | BD94: =ROUND(SUM(BD95:BD97),2) -> 0 | BS94: D | BT94: 0 | BU94: ###NOIMPORT### | BV94: IMPORT | BW94: {314035c9-037f-4032-8112-be26570740a7} | BX94: {00000000-0000-0000-0000-000000000000}
A95: / | D95: 01 | J95: Střecha | AG95: ='01 - Střecha'!J30 -> 0 | AN95: =SUM(AG95,AT95) -> 0 | AQ95: STA | AS95: 0 | AT95: =ROUND(SUM(AV95:AW95),2) -> 0 | AU95: ='01 - Střecha'!P130 -> 0 | AV95: ='01 - Střecha'!J33 -> 0 | AW95: ='01 - Střecha'!J34 -> 0 | AX95: ='01 - Střecha'!J35 -> 0 | AY95: ='01 - Střecha'!J36 -> 0 | AZ95: ='01 - Střecha'!F33 -> 0 | BA95: ='01 - Střecha'!F34 -> 0 | BB95: ='01 - Střecha'!F35 -> 0 | BC95: ='01 - Střecha'!F36 -> 0 | BD95: ='01 - Střecha'!F37 -> 0 | BT95: 1 | BV95: IMPORT | BW95: {7a323d8f-5752-4346-b526-968960b7aea5} | BX95: {314035c9-037f-4032-8112-be26570740a7} | CM95: 1
A96: / | D96: 02 | J96: Terasy | AG96: ='02 - Terasy'!J30 -> 0 | AN96: =SUM(AG96,AT96) -> 0 | AQ96: STA | AS96: 0 | AT96: =ROUND(SUM(AV96:AW96),2) -> 0 | AU96: ='02 - Terasy'!P128 -> 0 | AV96: ='02 - Terasy'!J33 -> 0 | AW96: ='02 - Terasy'!J34 -> 0 | AX96: ='02 - Terasy'!J35 -> 0 | AY96: ='02 - Terasy'!J36 -> 0 | AZ96: ='02 - Terasy'!F33 -> 0 | BA96: ='02 - Terasy'!F34 -> 0 | BB96: ='02 - Terasy'!F35 -> 0 | BC96: ='02 - Terasy'!F36 -> 0 | BD96: ='02 - Terasy'!F37 -> 0 | BT96: 1 | BV96: IMPORT | BW96: {7f5bfbbe-c658-46a6-9dd8-5309c600aabb} | BX96: {314035c9-037f-4032-8112-be26570740a7} | CM96: 1
A97: / | D97: 03 | J97: Vedlejší rozpočtové náklady | AG97: ='03 - Vedlejší rozpočtové ...'!J30 -> 0 | AN97: =SUM(AG97,AT97) -> 0 | AQ97: STA | AS97: 0 | AT97: =ROUND(SUM(AV97:AW97),2) -> 0 | AU97: ='03 - Vedlejší rozpočtové ...'!P123 -> 0 | AV97: ='03 - Vedlejší rozpočtové ...'!J33 -> 0 | AW97: ='03 - Vedlejší rozpočtové ...'!J34 -> 0 | AX97: ='03 - Vedlejší rozpočtové ...'!J35 -> 0 | AY97: ='03 - Vedlejší rozpočtové ...'!J36 -> 0 | AZ97: ='03 - Vedlejší rozpočtové ...'!F33 -> 0 | BA97: ='03 - Vedlejší rozpočtové ...'!F34 -> 0 | BB97: ='03 - Vedlejší rozpočtové ...'!F35 -> 0 | BC97: ='03 - Vedlejší rozpočtové ...'!F36 -> 0 | BD97: ='03 - Vedlejší rozpočtové ...'!F37 -> 0 | BT97: 1 | BV97: IMPORT | BW97: {1ef61767-b5b3-4f64-8ee5-1e5d2d1188dd} | BX97: {314035c9-037f-4032-8112-be26570740a7} | CM97: 1

Sheet 01 - Střecha
L2: >> skryté sloupce << | AT2: {7a323d8f-5752-4346-b526-968960b7aea5}
AT3: 1
D4: KRYCÍ LIST SOUPISU PRACÍ | M4: v --- níže se nacházejí doplnkové a pomocné údaje k sestavám --- v | AT4: False
D6: Stavba:
E7: ='Rekapitulace stavby'!K6 -> Oprava střechy a teras, Bělohorská 1688-1689, Praha 6
D8: Objekt:
E9: 01 - Střecha
D11: KSO: | I11: CC-CZ:
D12: Místo: | F12: Bělohorská 1688-1689, Praha 6 - Břevnov | I12: Datum: | J12: ='Rekapitulace stavby'!AN8 -> 11. 6. 2021
D14: Zadavatel: | I14: IČ:
E15: AUSTIS-REAL s.r.o., Pod Marjánkou 1675/41, Praha 6 | I15: DIČ:
D17: Uchazeč: | I17: IČ: | J17: ='Rekapitulace stavby'!AN13 -> Vyplň údaj
E18: ='Rekapitulace stavby'!E14 -> Vyplň údaj | I18: DIČ: | J18: ='Rekapitulace stavby'!AN14 -> Vyplň údaj
D20: Projektant: | I20: IČ:
E21: Ing. Jan Vojtěchovský | I21: DIČ:
D23: Zpracovatel: | I23: IČ:
E24: Ing. Petr Kopecký | I24: DIČ:
D26: Poznámka:
D30: Cena bez DPH | J30: =ROUND(J130, 2) -> 0
F32: Základ daně | I32: Sazba daně | J32: Výše daně
D33: DPH | E33: základní | F33: =ROUND((ROUND((SUM(BE130:BE332)), 2) + SUM(BE334:BE383)), 2) -> 0 | I33: 0.21 | J33: =ROUND((ROUND(((SUM(BE130:BE332))*I33), 2) + (SUM(BE334:BE383)*I33)), 2) -> 0
E34: snížená | F34: =ROUND((ROUND((SUM(BF130:BF332)), 2) + SUM(BF334:BF383)), 2) -> 0 | I34: 0.15 | J34: =ROUND((ROUND(((SUM(BF130:BF332))*I34), 2) + (SUM(BF334:BF383)*I34)), 2) -> 0
E35: zákl. přenesená | F35: =ROUND((ROUND((SUM(BG130:BG332)), 2) + SUM(BG334:BG383)), 2) -> 0 | I35: 0.21 | J35: =0 -> 0
E36: sníž. přenesená | F36: =ROUND((ROUND((SUM(BH130:BH332)), 2) + SUM(BH334:BH383)), 2) -> 0 | I36: 0.15 | J36: =0 -> 0
E37: nulová | F37: =ROUND((ROUND((SUM(BI130:BI332)), 2) + SUM(BI334:BI383)), 2) -> 0 | I37: 0 | J37: =0 -> 0
D39: Cena s DPH | G39: v | H39: CZK | J39: =SUM(J30:J37) -> 0
D50: Projektant | G50: Zpracovatel
D61: Datum a podpis: | F61: Razítko | G61: Datum a podpis: | J61: Razítko
D65: Objednavatel | G65: Uchazeč
D76: Datum a podpis: | F76: Razítko | G76: Datum a podpis: | J76: Razítko
C82: REKAPITULACE ČLENĚNÍ SOUPISU PRACÍ
C84: Stavba:
E85: =E7 -> Oprava střechy a teras, Bělohorská 1688-1689, Praha 6
C86: Objekt:
E87: =E9 -> 01 - Střecha
C89: Místo: | F89: =F12 -> Bělohorská 1688-1689, Praha 6 - Břevnov | I89: Datum: | J89: =IF(J12="","",J12) -> 11. 6. 2021
C91: Zadavatel: | F91: =E15 -> AUSTIS-REAL s.r.o., Pod Marjánkou 1675/41, Praha 6 | I91: Projektant: | J91: =E21 -> Ing. Jan Vojtěchovský
C92: Uchazeč: | F92: =IF(E18="","",E18) -> Vyplň údaj | I92: Zpracovatel: | J92: =E24 -> Ing. Petr Kopecký
C94: Kód dílu - Popis | J94: Cena celkem [CZK]
C96: Náklady ze soupisu prací | J96: =J130 -> 0 | AU96: -1
D97: HSV - Práce a dodávky HSV | J97: =J131 -> 0
D98: 3 - Svislé a kompletní konstrukce | J98: =J132 -> 0
D99: 6 - Úpravy povrchů, podlahy a osazování výplní | J99: =J138 -> 0
D100: 9 - Ostatní konstrukce a práce, bourání | J100: =J151 -> 0
D101: 997 - Přesun sutě | J101: =J159 -> 0
D102: 998 - Přesun hmot | J102: =J166 -> 0
D103: PSV - Práce a dodávky PSV | J103: =J169 -> 0
D104: 712 - Povlakové krytiny | J104: =J170 -> 0
D105: 713 - Izolace tepelné | J105: =J246 -> 0
D106: 741 - Elektroinstalace - silnoproud | J106: =J289 -> 0
D107: 762 - Konstrukce tesařské | J107: =J293 -> 0
D108: 764 - Konstrukce klempířské | J108: =J305 -> 0
D109: OST - Ostatní | J109: =J331 -> 0
D110: VP - Vícepráce | J110: =J333 -> 0
C117: SOUPIS PRACÍ
C119: Stavba:
E120: =E7 -> Oprava střechy a teras, Bělohorská 1688-1689, Praha 6
C121: Objekt:
E122: =E9 -> 01 - Střecha
C124: Místo: | F124: =F12 -> Bělohorská 1688-1689, Praha 6 - Břevnov | I124: Datum: | J124: =IF(J12="","",J12) -> 11. 6. 2021
C126: Zadavatel: | F126: =E15 -> AUSTIS-REAL s.r.o., Pod Marjánkou 1675/41, Praha 6 | I126: Projektant: | J126: =E21 -> Ing. Jan Vojtěchovský
C127: Uchazeč: | F127: =IF(E18="","",E18) -> Vyplň údaj | I127: Zpracovatel: | J127: =E24 -> Ing. Petr Kopecký
C129: PČ | D129: Typ | E129: Kód | F129: Popis | G129: MJ | H129: Množství | I129: J.cena [CZK] | J129: Cena celkem [CZK] | K129: Cenová soustava | N129: DPH | O129: J. Nh [h] | P129: Nh celkem [h] | Q129: J. hmotnost [t] | R129: Hmotnost celkem [t] | S129: J. suť [t] | T129: Suť Celkem [t]
C130: Náklady soupisu celkem | J130: =BK130 -> 0 | P130: =P131+P169+P331+P333 -> 0 | R130: =R131+R169+R331+R333 -> 15.661545 | T130: =T131+T169+T331+T333 -> 6.558356 | AT130: D | AU130: -1 | BK130: =BK131+BK169+BK331+BK333 -> 0
D131: D | E131: HSV | F131: Práce a dodávky HSV | J131: =BK131 -> 0 | P131: =P132+P138+P151+P159+P166 -> 0 | R131: =R132+R138+R151+R159+R166 -> 2.2538734 | T131: =T132+T138+T151+T159+T166 -> 0 | AR131: 1 | AT131: D | AU131: 0 | AY131: ROZPOCET | BK131: =BK132+BK138+BK151+BK159+BK166 -> 0
D132: D | E132: 3 | F132: Svislé a kompletní konstrukce | J132: =BK132 -> 0 | P132: =SUM(P133:P137) -> 0 | R132: =SUM(R133:R137) -> 2.0141666 | T132: =SUM(T133:T137) -> 0 | AR132: 1 | AT132: D | AU132: 1 | AY132: ROZPOCET | BK132: =SUM(BK133:BK137) -> 0
C133: 1 | D133: K | E133: 311113132 | F133: Nosná zeď tl do 200 mm z hladkých tvárnic ztraceného bednění včetně výplně z betonu tř. C 16/20 | G133: m2 | H133: 4.58 | J133: =ROUND(I133*H133,2) -> 0 | N133: snížená | P133: =O133*H133 -> 0 | Q133: 0.42832 | R133: =Q133*H133 -> 1.9617056 | S133: 0 | T133: =S133*H133 -> 0 | AR133: 4 | AT133: K | AU133: 2 | AY133: ROZPOCET | BE133: =IF(N133="základní",J133,0) -> 0 | BF133: =IF(N133="snížená",J133,0) -> 0 | BG133: =IF(N133="zákl. přenesená",J133,0) -> 0 | BH133: =IF(N133="sníž. přenesená",J133,0) -> 0 | BI133: =IF(N133="nulová",J133,0) -> 0 | BJ133: 2 | BK133: =ROUND(I133*H133,2) -> 0 | BL133: 4 | BM133: 517089433
D134: VV | F134: (6,05+10,8+6,05)*0,2 "dle DET B | H134: 4.58 | AT134: VV | AU134: 2 | AV134: 2 | AW134: True | AX134: 1 | AY134: ROZPOCET
C135: 2 | D135: K | E135: 311361821 | F135: Výztuž nosných zdí betonářskou ocelí 10 505 | G135: t | H135: 0.05 | J135: =ROUND(I135*H135,2) -> 0 | N135: snížená | P135: =O135*H135 -> 0 | Q135: 1.04922 | R135: =Q135*H135 -> 0.052461 | S135: 0 | T135: =S135*H135 -> 0 | AR135: 4 | AT135: K | AU135: 2 | AY135: ROZPOCET | BE135: =IF(N135="základní",J135,0) -> 0 | BF135: =IF(N135="snížená",J135,0) -> 0 | BG135: =IF(N135="zákl. přenesená",J135,0) -> 0 | BH135: =IF(N135="sníž. přenesená",J135,0) -> 0 | BI135: =IF(N135="nulová",J135,0) -> 0 | BJ135: 2 | BK135: =ROUND(I135*H135,2) -> 0 | BL135: 4 | BM135: -967568762
D136: VV | F136: procento vyztužení 60 kg/m3 | AT136: VV | AU136: 2 | AV136: 1 | AW136: True | AX136: 0 | AY136: ROZPOCET
D137: VV | F137: (6,05+10,8+6,05)*0,2*0,2*60/1000 "dle DET B | H137: 0.05 | AT137: VV | AU137: 2 | AV137: 2 | AW137: True | AX137: 1 | AY137: ROZPOCET
D138: D | E138: 6 | F138: Úpravy povrchů, podlahy a osazování výplní | J138: =BK138 -> 0 | P138: =SUM(P139:P150) -> 0 | R138: =SUM(R139:R150) -> 0.1674168 | T138: =SUM(T139:T150) -> 0 | AR138: 1 | AT138: D | AU138: 1 | AY138: ROZPOCET | BK138: =SUM(BK139:BK150) -> 0
C139: 3 | D139: K | E139: 622131121 | F139: Penetrační nátěr vnějších stěn nanášený ručně | G139: m2 | H139: 26.49 | J139: =ROUND(I139*H139,2) -> 0 | N139: snížená | P139: =O139*H139 -> 0 | Q139: 0.00026 | R139: =Q139*H139 -> 0.0068874 | S139: 0 | T139: =S139*H139 -> 0 | AR139: 4 | AT139: K | AU139: 2 | AY139: ROZPOCET | BE139: =IF(N139="základní",J139,0) -> 0 | BF139: =IF(N139="snížená",J139,0) -> 0 | BG139: =IF(N139="zákl. přenesená",J139,0) -> 0 | BH139: =IF(N139="sníž. přenesená",J139,0) -> 0 | BI139: =IF(N139="nulová",J139,0) -> 0 | BJ139: 2 | BK139: =ROUND(I139*H139,2) -> 0 | BL139: 4 | BM139: -248560661
D140: VV | F140: (6,05+10,8+6,05)*0,3 "dle DET B | H140: 6.87 | AT140: VV | AU140: 2 | AV140: 2 | AW140: True | AX140: 0 | AY140: ROZPOCET
D141: VV | F141: (32,7+32,7)*0,3 "dle DET A | H141: 19.62 | AT141: VV | AU141: 2 | AV141: 2 | AW141: True | AX141: 0 | AY141: ROZPOCET
D142: VV | F142: Součet | H142: 26.49 | AT142: VV | AU142: 2 | AV142: 4 | AW142: True | AX142: 1 | AY142: ROZPOCET
C143: 4 | D143: K | E143: 622142001 | F143: Potažení vnějších stěn sklovláknitým pletivem vtlačeným do tenkovrstvé hmoty | G143: m2 | H143: 26.49 | J143: =ROUND(I143*H143,2) -> 0 | N143: snížená | P143: =O143*H143 -> 0 | Q143: 0.00438 | R143: =Q143*H143 -> 0.1160262 | S143: 0 | T143: =S143*H143 -> 0 | AR143: 4 | AT143: K | AU143: 2 | AY143: ROZPOCET | BE143: =IF(N143="základní",J143,0) -> 0 | BF143: =IF(N143="snížená",J143,0) -> 0 | BG143: =IF(N143="zákl. přenesená",J143,0) -> 0 | BH143: =IF(N143="sníž. přenesená",J143,0) -> 0 | BI143: =IF(N143="nulová",J143,0) -> 0 | BJ143: 2 | BK143: =ROUND(I143*H143,2) -> 0 | BL143: 4 | BM143: 467834468
D144: VV | F144: (6,05+10,8+6,05)*0,3 "dle DET B | H144: 6.87 | AT144: VV | AU144: 2 | AV144: 2 | AW144: True | AX144: 0 | AY144: ROZPOCET
D145: VV | F145: (32,7+32,7)*0,3 "dle DET A | H145: 19.62 | AT145: VV | AU145: 2 | AV145: 2 | AW145: True | AX145: 0 | AY145: ROZPOCET
D146: VV | F146: Součet | H146: 26.49 | AT146: VV | AU146: 2 | AV146: 4 | AW146: True | AX146: 1 | AY146: ROZPOCET
C147: 5 | D147: K | E147: 622531001 | F147: Tenkovrstvá silikonová zrnitá omítka tl. 1,0 mm včetně penetrace vnějších stěn | G147: m2 | H147: 26.49 | J147: =ROUND(I147*H147,2) -> 0 | N147: snížená | P147: =O147*H147 -> 0 | Q147: 0.00168 | R147: =Q147*H147 -> 0.0445032 | S147: 0 | T147: =S147*H147 -> 0 | AR147: 4 | AT147: K | AU147: 2 | AY147: ROZPOCET | BE147: =IF(N147="základní",J147,0) -> 0 | BF147: =IF(N147="snížená",J147,0) -> 0 | BG147: =IF(N147="zákl. přenesená",J147,0) -> 0 | BH147: =IF(N147="sníž. přenesená",J147,0) -> 0 | BI147: =IF(N147="nulová",J147,0) -> 0 | BJ147: 2 | BK147: =ROUND(I147*H147,2) -> 0 | BL147: 4 | BM147: -877471947
D148: VV | F148: (6,05+10,8+6,05)*0,3 "dle DET B | H148: 6.87 | AT148: VV | AU148: 2 | AV148: 2 | AW148: True | AX148: 0 | AY148: ROZPOCET
D149: VV | F149: (32,7+32,7)*0,3 "dle DET A | H149: 19.62 | AT149: VV | AU149: 2 | AV149: 2 | AW149: True | AX149: 0 | AY149: ROZPOCET
D150: VV | F150: Součet | H150: 26.49 | AT150: VV | AU150: 2 | AV150: 4 | AW150: True | AX150: 1 | AY150: ROZPOCET
D151: D | E151: 9 | F151: Ostatní konstrukce a práce, bourání | J151: =BK151 -> 0 | P151: =SUM(P152:P158) -> 0 | R151: =SUM(R152:R158) -> 0.07229 | T151: =SUM(T152:T158) -> 0 | AR151: 1 | AT151: D | AU151: 1 | AY151: ROZPOCET | BK151: =SUM(BK152:BK158) -> 0
C152: 6 | D152: K | E152: 952902021 | F152: Čištění budov zametení hladkých podlah | G152: m2 | H152: 447.96 | J152: =ROUND(I152*H152,2) -> 0 | N152: snížená | P152: =O152*H152 -> 0 | Q152: 0 | R152: =Q152*H152 -> 0 | S152: 0 | T152: =S152*H152 -> 0 | AR152: 4 | AT152: K | AU152: 2 | AY152: ROZPOCET | BE152: =IF(N152="základní",J152,0) -> 0 | BF152: =IF(N152="snížená",J152,0) -> 0 | BG152: =IF(N152="zákl. přenesená",J152,0) -> 0 | BH152: =IF(N152="sníž. přenesená",J152,0) -> 0 | BI152: =IF(N152="nulová",J152,0) -> 0 | BJ152: 2 | BK152: =ROUND(I152*H152,2) -> 0 | BL152: 4 | BM152: -1533257707
D153: VV | F153: 447,96 "očištění stávajícího asfaltového pásu | H153: 447.96 | AT153: VV | AU153: 2 | AV153: 2 | AW153: True | AX153: 1 | AY153: ROZPOCET
C154: 7 | D154: K | E154: 953961113 | F154: Kotvy chemickým tmelem M 12 hl 110 mm do betonu, ŽB nebo kamene s vyvrtáním otvoru | G154: kus | H154: 229 | J154: =ROUND(I154*H154,2) -> 0 | N154: snížená | P154: =O154*H154 -> 0 | Q154: 1e-05 | R154: =Q154*H154 -> 0.00229 | S154: 0 | T154: =S154*H154 -> 0 | AR154: 4 | AT154: K | AU154: 2 | AY154: ROZPOCET | BE154: =IF(N154="základní",J154,0) -> 0 | BF154: =IF(N154="snížená",J154,0) -> 0 | BG154: =IF(N154="zákl. přenesená",J154,0) -> 0 | BH154: =IF(N154="sníž. přenesená",J154,0) -> 0 | BI154: =IF(N154="nulová",J154,0) -> 0 | BJ154: 2 | BK154: =ROUND(I154*H154,2) -> 0 | BL154: 4 | BM154: 520067268
D155: VV | F155: (6,05+10,8+6,05)*10 "dle DET B | H155: 229 | AT155: VV | AU155: 2 | AV155: 2 | AW155: True | AX155: 1 | AY155: ROZPOCET
C156: 8 | D156: M | E156: 13021013 | F156: tyč ocelová žebírková jakost BSt 500S (10 505) výztuž do betonu D 12mm | G156: t | H156: 0.07 | J156: =ROUND(I156*H156,2) -> 0 | N156: snížená | P156: =O156*H156 -> 0 | Q156: 1 | R156: =Q156*H156 -> 0.07 | S156: 0 | T156: =S156*H156 -> 0 | AR156: 8 | AT156: M | AU156: 2 | AY156: ROZPOCET | BE156: =IF(N156="základní",J156,0) -> 0 | BF156: =IF(N156="snížená",J156,0) -> 0 | BG156: =IF(N156="zákl. přenesená",J156,0) -> 0 | BH156: =IF(N156="sníž. přenesená",J156,0) -> 0 | BI156: =IF(N156="nulová",J156,0) -> 0 | BJ156: 2 | BK156: =ROUND(I156*H156,2) -> 0 | BL156: 4 | BM156: -1270196163
D157: VV | F157: (6,05+10,8+6,05)*10*0,3*0,89/1000 "dle DET B | H157: 0.06 | AT157: VV | AU157: 2 | AV157: 2 | AW157: True | AX157: 1 | AY157: ROZPOCET
D158: VV | F158: 0,06*1,1 'Přepočtené koeficientem množství | H158: 0.07 | AT158: VV | AU158: 2 | AV158: 2 | AW158: False | AX158: 1 | AY158: ROZPOCET
D159: D | E159: 997 | F159: Přesun sutě | J159: =BK159 -> 0 | P159: =SUM(P160:P165) -> 0 | R159: =SUM(R160:R165) -> 0 | T159: =SUM(T160:T165) -> 0 | AR159: 1 | AT159: D | AU159: 1 | AY159: ROZPOCET | BK159: =SUM(BK160:BK165) -> 0
C160: 9 | D160: K | E160: 997002611 | F160: Nakládání suti a vybouraných hmot | G160: t | H160: 6.56 | J160: =ROUND(I160*H160,2) -> 0 | N160: snížená | P160: =O160*H160 -> 0 | Q160: 0 | R160: =Q160*H160 -> 0 | S160: 0 | T160: =S160*H160 -> 0 | AR160: 4 | AT160: K | AU160: 2 | AY160: ROZPOCET | BE160: =IF(N160="základní",J160,0) -> 0 | BF160: =IF(N160="snížená",J160,0) -> 0 | BG160: =IF(N160="zákl. přenesená",J160,0) -> 0 | BH160: =IF(N160="sníž. přenesená",J160,0) -> 0 | BI160: =IF(N160="nulová",J160,0) -> 0 | BJ160: 2 | BK160: =ROUND(I160*H160,2) -> 0 | BL160: 4 | BM160: -1020186975
C161: 10 | D161: K | E161: 997013215 | F161: Vnitrostaveništní doprava suti a vybouraných hmot pro budovy v do 18 m ručně | G161: t | H161: 6.56 | J161: =ROUND(I161*H161,2) -> 0 | N161: snížená | P161: =O161*H161 -> 0 | Q161: 0 | R161: =Q161*H161 -> 0 | S161: 0 | T161: =S161*H161 -> 0 | AR161: 4 | AT161: K | AU161: 2 | AY161: ROZPOCET | BE161: =IF(N161="základní",J161,0) -> 0 | BF161: =IF(N161="snížená",J161,0) -> 0 | BG161: =IF(N161="zákl. přenesená",J161,0) -> 0 | BH161: =IF(N161="sníž. přenesená",J161,0) -> 0 | BI161: =IF(N161="nulová",J161,0) -> 0 | BJ161: 2 | BK161: =ROUND(I161*H161,2) -> 0 | BL161: 4 | BM161: -1789902423
C162: 11 | D162: K | E162: 997013501 | F162: Odvoz suti a vybouraných hmot na skládku nebo meziskládku do 1 km se složením | G162: t | H162: 6.56 | J162: =ROUND(I162*H162,2) -> 0 | N162: snížená | P162: =O162*H162 -> 0 | Q162: 0 | R162: =Q162*H162 -> 0 | S162: 0 | T162: =S162*H162 -> 0 | AR162: 4 | AT162: K | AU162: 2 | AY162: ROZPOCET | BE162: =IF(N162="základní",J162,0) -> 0 | BF162: =IF(N162="snížená",J162,0) -> 0 | BG162: =IF(N162="zákl. přenesená",J162,0) -> 0 | BH162: =IF(N162="sníž. přenesená",J162,0) -> 0 | BI162: =IF(N162="nulová",J162,0) -> 0 | BJ162: 2 | BK162: =ROUND(I162*H162,2) -> 0 | BL162: 4 | BM162: -1518772264
C163: 12 | D163: K | E163: 997013509 | F163: Příplatek k odvozu suti a vybouraných hmot na skládku ZKD 1 km přes 1 km | G163: t | H163: 98.4 | J163: =ROUND(I163*H163,2) -> 0 | N163: snížená | P163: =O163*H163 -> 0 | Q163: 0 | R163: =Q163*H163 -> 0 | S163: 0 | T163: =S163*H163 -> 0 | AR163: 4 | AT163: K | AU163: 2 | AY163: ROZPOCET | BE163: =IF(N163="základní",J163,0) -> 0 | BF163: =IF(N163="snížená",J163,0) -> 0 | BG163: =IF(N163="zákl. přenesená",J163,0) -> 0 | BH163: =IF(N163="sníž. přenesená",J163,0) -> 0 | BI163: =IF(N163="nulová",J163,0) -> 0 | BJ163: 2 | BK163: =ROUND(I163*H163,2) -> 0 | BL163: 4 | BM163: 639696821
D164: VV | F164: 6,56*15 'Přepočtené koeficientem množství | H164: 98.4 | AT164: VV | AU164: 2 | AV164: 2 | AW164: False | AX164: 1 | AY164: ROZPOCET
C165: 13 | D165: K | E165: 997013814 | F165: Poplatek za uložení na skládce (skládkovné) stavebního odpadu izolací kód odpadu 17 06 04 | G165: t | H165: 6.56 | J165: =ROUND(I165*H165,2) -> 0 | N165: snížená | P165: =O165*H165 -> 0 | Q165: 0 | R165: =Q165*H165 -> 0 | S165: 0 | T165: =S165*H165 -> 0 | AR165: 4 | AT165: K | AU165: 2 | AY165: ROZPOCET | BE165: =IF(N165="základní",J165,0) -> 0 | BF165: =IF(N165="snížená",J165,0) -> 0 | BG165: =IF(N165="zákl. přenesená",J165,0) -> 0 | BH165: =IF(N165="sníž. přenesená",J165,0) -> 0 | BI165: =IF(N165="nulová",J165,0) -> 0 | BJ165: 2 | BK165: =ROUND(I165*H165,2) -> 0 | BL165: 4 | BM165: 83058163
D166: D | E166: 998 | F166: Přesun hmot | J166: =BK166 -> 0 | P166: =SUM(P167:P168) -> 0 | R166: =SUM(R167:R168) -> 0 | T166: =SUM(T167:T168) -> 0 | AR166: 1 | AT166: D | AU166: 1 | AY166: ROZPOCET | BK166: =SUM(BK167:BK168) -> 0
...

Sheet 02 - Terasy
L2: >> skryté sloupce << | AT2: {7f5bfbbe-c658-46a6-9dd8-5309c600aabb}
AT3: 1
D4: KRYCÍ LIST SOUPISU PRACÍ | M4: v --- níže se nacházejí doplnkové a pomocné údaje k sestavám --- v | AT4: False
D6: Stavba:
E7: ='Rekapitulace stavby'!K6 -> Oprava střechy a teras, Bělohorská 1688-1689, Praha 6
D8: Objekt:
E9: 02 - Terasy
D11: KSO: | I11: CC-CZ:
D12: Místo: | F12: Bělohorská 1688-1689, Praha 6 - Břevnov | I12: Datum: | J12: ='Rekapitulace stavby'!AN8 -> 11. 6. 2021
D14: Zadavatel: | I14: IČ:
E15: AUSTIS-REAL s.r.o., Pod Marjánkou 1675/41, Praha 6 | I15: DIČ:
D17: Uchazeč: | I17: IČ: | J17: ='Rekapitulace stavby'!AN13 -> Vyplň údaj
E18: ='Rekapitulace stavby'!E14 -> Vyplň údaj | I18: DIČ: | J18: ='Rekapitulace stavby'!AN14 -> Vyplň údaj
D20: Projektant: | I20: IČ:
E21: Ing. Jan Vojtěchovský | I21: DIČ:
D23: Zpracovatel: | I23: IČ:
E24: Ing. Petr Kopecký | I24: DIČ:
D26: Poznámka:
D30: Cena bez DPH | J30: =ROUND(J128, 2) -> 0
F32: Základ daně | I32: Sazba daně | J32: Výše daně
D33: DPH | E33: základní | F33: =ROUND((ROUND((SUM(BE128:BE254)), 2) + SUM(BE256:BE305)), 2) -> 0 | I33: 0.21 | J33: =ROUND((ROUND(((SUM(BE128:BE254))*I33), 2) + (SUM(BE256:BE305)*I33)), 2) -> 0
E34: snížená | F34: =ROUND((ROUND((SUM(BF128:BF254)), 2) + SUM(BF256:BF305)), 2) -> 0 | I34: 0.15 | J34: =ROUND((ROUND(((SUM(BF128:BF254))*I34), 2) + (SUM(BF256:BF305)*I34)), 2) -> 0
E35: zákl. přenesená | F35: =ROUND((ROUND((SUM(BG128:BG254)), 2) + SUM(BG256:BG305)), 2) -> 0 | I35: 0.21 | J35: =0 -> 0
E36: sníž. přenesená | F36: =ROUND((ROUND((SUM(BH128:BH254)), 2) + SUM(BH256:BH305)), 2) -> 0 | I36: 0.15 | J36: =0 -> 0
E37: nulová | F37: =ROUND((ROUND((SUM(BI128:BI254)), 2) + SUM(BI256:BI305)), 2) -> 0 | I37: 0 | J37: =0 -> 0
D39: Cena s DPH | G39: v | H39: CZK | J39: =SUM(J30:J37) -> 0
D50: Projektant | G50: Zpracovatel
D61: Datum a podpis: | F61: Razítko | G61: Datum a podpis: | J61: Razítko
D65: Objednavatel | G65: Uchazeč
D76: Datum a podpis: | F76: Razítko | G76: Datum a podpis: | J76: Razítko
C82: REKAPITULACE ČLENĚNÍ SOUPISU PRACÍ
C84: Stavba:
E85: =E7 -> Oprava střechy a teras, Bělohorská 1688-1689, Praha 6
C86: Objekt:
E87: =E9 -> 02 - Terasy
C89: Místo: | F89: =F12 -> Bělohorská 1688-1689, Praha 6 - Břevnov | I89: Datum: | J89: =IF(J12="","",J12) -> 11. 6. 2021
C91: Zadavatel: | F91: =E15 -> AUSTIS-REAL s.r.o., Pod Marjánkou 1675/41, Praha 6 | I91: Projektant: | J91: =E21 -> Ing. Jan Vojtěchovský
C92: Uchazeč: | F92: =IF(E18="","",E18) -> Vyplň údaj | I92: Zpracovatel: | J92: =E24 -> Ing. Petr Kopecký
C94: Kód dílu - Popis | J94: Cena celkem [CZK]
C96: Náklady ze soupisu prací | J96: =J128 -> 0 | AU96: -1
D97: HSV - Práce a dodávky HSV | J97: =J129 -> 0
D98: 3 - Svislé a kompletní konstrukce | J98: =J130 -> 0
D99: 6 - Úpravy povrchů, podlahy a osazování výplní | J99: =J133 -> 0
D100: 9 - Ostatní konstrukce a práce, bourání | J100: =J150 -> 0
D101: 997 - Přesun sutě | J101: =J163 -> 0
D102: 998 - Přesun hmot | J102: =J170 -> 0
D103: PSV - Práce a dodávky PSV | J103: =J172 -> 0
D104: 712 - Povlakové krytiny | J104: =J173 -> 0
D105: 713 - Izolace tepelné | J105: =J224 -> 0
D106: 764 - Konstrukce klempířské | J106: =J236 -> 0
D107: 771 - Podlahy z dlaždic | J107: =J252 -> 0
D108: VP - Vícepráce | J108: =J255 -> 0
C115: SOUPIS PRACÍ
C117: Stavba:
E118: =E7 -> Oprava střechy a teras, Bělohorská 1688-1689, Praha 6
C119: Objekt:
E120: =E9 -> 02 - Terasy
C122: Místo: | F122: =F12 -> Bělohorská 1688-1689, Praha 6 - Břevnov | I122: Datum: | J122: =IF(J12="","",J12) -> 11. 6. 2021
C124: Zadavatel: | F124: =E15 -> AUSTIS-REAL s.r.o., Pod Marjánkou 1675/41, Praha 6 | I124: Projektant: | J124: =E21 -> Ing. Jan Vojtěchovský
C125: Uchazeč: | F125: =IF(E18="","",E18) -> Vyplň údaj | I125: Zpracovatel: | J125: =E24 -> Ing. Petr Kopecký
C127: PČ | D127: Typ | E127: Kód | F127: Popis | G127: MJ | H127: Množství | I127: J.cena [CZK] | J127: Cena celkem [CZK] | K127: Cenová soustava | N127: DPH | O127: J. Nh [h] | P127: Nh celkem [h] | Q127: J. hmotnost [t] | R127: Hmotnost celkem [t] | S127: J. suť [t] | T127: Suť Celkem [t]
C128: Náklady soupisu celkem | J128: =BK128 -> 0 | P128: =P129+P172+P255 -> 0 | R128: =R129+R172+R255 -> 22.968961 | T128: =T129+T172+T255 -> 41.270926 | AT128: D | AU128: -1 | BK128: =BK129+BK172+BK255 -> 0
D129: D | E129: HSV | F129: Práce a dodávky HSV | J129: =BK129 -> 0 | P129: =P130+P133+P150+P163+P170 -> 0 | R129: =R130+R133+R150+R163+R170 -> 18.695188 | T129: =T130+T133+T150+T163+T170 -> 38.4745 | AR129: 1 | AT129: D | AU129: 0 | AY129: ROZPOCET | BK129: =BK130+BK133+BK150+BK163+BK170 -> 0
D130: D | E130: 3 | F130: Svislé a kompletní konstrukce | J130: =BK130 -> 0 | P130: =SUM(P131:P132) -> 0 | R130: =SUM(R131:R132) -> 0.76095 | T130: =SUM(T131:T132) -> 0 | AR130: 1 | AT130: D | AU130: 1 | AY130: ROZPOCET | BK130: =SUM(BK131:BK132) -> 0
C131: 1 | D131: K | E131: 340238212 | F131: Zazdívka otvorů v příčkách nebo stěnách plochy do 1 m2 cihlami plnými tl přes 100 mm | G131: m2 | H131: 3 | J131: =ROUND(I131*H131,2) -> 0 | N131: snížená | P131: =O131*H131 -> 0 | Q131: 0.25365 | R131: =Q131*H131 -> 0.76095 | S131: 0 | T131: =S131*H131 -> 0 | AR131: 4 | AT131: K | AU131: 2 | AY131: ROZPOCET | BE131: =IF(N131="základní",J131,0) -> 0 | BF131: =IF(N131="snížená",J131,0) -> 0 | BG131: =IF(N131="zákl. přenesená",J131,0) -> 0 | BH131: =IF(N131="sníž. přenesená",J131,0) -> 0 | BI131: =IF(N131="nulová",J131,0) -> 0 | BJ131: 2 | BK131: =ROUND(I131*H131,2) -> 0 | BL131: 4 | BM131: -1088678063
D132: VV | F132: 3 "kolem chrličů | H132: 3 | AT132: VV | AU132: 2 | AV132: 2 | AW132: True | AX132: 1 | AY132: ROZPOCET
D133: D | E133: 6 | F133: Úpravy povrchů, podlahy a osazování výplní | J133: =BK133 -> 0 | P133: =SUM(P134:P149) -> 0 | R133: =SUM(R134:R149) -> 16.848244 | T133: =SUM(T134:T149) -> 0 | AR133: 1 | AT133: D | AU133: 1 | AY133: ROZPOCET | BK133: =SUM(BK134:BK149) -> 0
C134: 2 | D134: K | E134: 622131101 | F134: Cementový postřik vnějších stěn nanášený celoplošně ručně | G134: m2 | H134: 21.65 | J134: =ROUND(I134*H134,2) -> 0 | N134: snížená | P134: =O134*H134 -> 0 | Q134: 0.00735 | R134: =Q134*H134 -> 0.1591275 | S134: 0 | T134: =S134*H134 -> 0 | AR134: 4 | AT134: K | AU134: 2 | AY134: ROZPOCET | BE134: =IF(N134="základní",J134,0) -> 0 | BF134: =IF(N134="snížená",J134,0) -> 0 | BG134: =IF(N134="zákl. přenesená",J134,0) -> 0 | BH134: =IF(N134="sníž. přenesená",J134,0) -> 0 | BI134: =IF(N134="nulová",J134,0) -> 0 | BJ134: 2 | BK134: =ROUND(I134*H134,2) -> 0 | BL134: 4 | BM134: 323804815
D135: VV | F135: (10,5+17,2+17,6+17+10,4+24,6+10,9+12,6+23,5)*0,15 "po demontáži keramických soklů pod hydroizolaci | H135: 21.65 | AT135: VV | AU135: 2 | AV135: 2 | AW135: True | AX135: 1 | AY135: ROZPOCET
C136: 3 | D136: K | E136: 622331121 | F136: Cementová omítka hladká jednovrstvá vnějších stěn nanášená ručně | G136: m2 | H136: 21.65 | J136: =ROUND(I136*H136,2) -> 0 | N136: snížená | P136: =O136*H136 -> 0 | Q136: 0.0315 | R136: =Q136*H136 -> 0.681975 | S136: 0 | T136: =S136*H136 -> 0 | AR136: 4 | AT136: K | AU136: 2 | AY136: ROZPOCET | BE136: =IF(N136="základní",J136,0) -> 0 | BF136: =IF(N136="snížená",J136,0) -> 0 | BG136: =IF(N136="zákl. přenesená",J136,0) -> 0 | BH136: =IF(N136="sníž. přenesená",J136,0) -> 0 | BI136: =IF(N136="nulová",J136,0) -> 0 | BJ136: 2 | BK136: =ROUND(I136*H136,2) -> 0 | BL136: 4 | BM136: -1249158121
D137: VV | F137: (10,5+17,2+17,6+17+10,4+24,6+10,9+12,6+23,5)*0,15 "po demontáži keramických soklů pod hydroizolaci | H137: 21.65 | AT137: VV | AU137: 2 | AV137: 2 | AW137: True | AX137: 1 | AY137: ROZPOCET
C138: 4 | D138: K | E138: 632450121 | F138: Vyrovnávací cementový potěr tl do 20 mm ze suchých směsí provedený v pásu | G138: m2 | H138: 49.58 | J138: =ROUND(I138*H138,2) -> 0 | N138: snížená | P138: =O138*H138 -> 0 | Q138: 0.042 | R138: =Q138*H138 -> 2.08236 | S138: 0 | T138: =S138*H138 -> 0 | AR138: 4 | AT138: K | AU138: 2 | AY138: ROZPOCET | BE138: =IF(N138="základní",J138,0) -> 0 | BF138: =IF(N138="snížená",J138,0) -> 0 | BG138: =IF(N138="zákl. přenesená",J138,0) -> 0 | BH138: =IF(N138="sníž. přenesená",J138,0) -> 0 | BI138: =IF(N138="nulová",J138,0) -> 0 | BJ138: 2 | BK138: =ROUND(I138*H138,2) -> 0 | BL138: 4 | BM138: -1455030183
D139: VV | F139: (2,12+33,4+7,05+0,3+0,3+14,4+0,3+0,3+4,1+2,12)*(0,3+0,16+0,16+0,15) "vyrovnání nadřímsového žlabu | H139: 49.58 | AT139: VV | AU139: 2 | AV139: 2 | AW139: True | AX139: 1 | AY139: ROZPOCET
C140: 5 | D140: K | E140: 632450131 | F140: Vyrovnávací cementový potěr tl do 20 mm ze suchých směsí provedený v ploše | G140: m2 | H140: 96.65 | J140: =ROUND(I140*H140,2) -> 0 | N140: snížená | P140: =O140*H140 -> 0 | Q140: 0.042 | R140: =Q140*H140 -> 4.0593 | S140: 0 | T140: =S140*H140 -> 0 | AR140: 4 | AT140: K | AU140: 2 | AY140: ROZPOCET | BE140: =IF(N140="základní",J140,0) -> 0 | BF140: =IF(N140="snížená",J140,0) -> 0 | BG140: =IF(N140="zákl. přenesená",J140,0) -> 0 | BH140: =IF(N140="sníž. přenesená",J140,0) -> 0 | BI140: =IF(N140="nulová",J140,0) -> 0 | BJ140: 2 | BK140: =ROUND(I140*H140,2) -> 0 | BL140: 4 | BM140: 1973614569
D141: VV | F141: 6,035+11,73+12,07+11,56+5,95+18,02+6,38+7,82+17,085 "skladba S3 | H141: 96.65 | AT141: VV | AU141: 2 | AV141: 2 | AW141: True | AX141: 1 | AY141: ROZPOCET
C142: 6 | D142: K | E142: 632902111 | F142: Příprava zatvrdlého povrchu betonových mazanin pro cementový potěr cementovým mlékem | G142: m2 | H142: 146.23 | J142: =ROUND(I142*H142,2) -> 0 | N142: snížená | P142: =O142*H142 -> 0 | Q142: 0.004 | R142: =Q142*H142 -> 0.58492 | S142: 0 | T142: =S142*H142 -> 0 | AR142: 4 | AT142: K | AU142: 2 | AY142: ROZPOCET | BE142: =IF(N142="základní",J142,0) -> 0 | BF142: =IF(N142="snížená",J142,0) -> 0 | BG142: =IF(N142="zákl. přenesená",J142,0) -> 0 | BH142: =IF(N142="sníž. přenesená",J142,0) -> 0 | BI142: =IF(N142="nulová",J142,0) -> 0 | BJ142: 2 | BK142: =ROUND(I142*H142,2) -> 0 | BL142: 4 | BM142: -1189935332
D143: VV | F143: 6,035+11,73+12,07+11,56+5,95+18,02+6,38+7,82+17,085 "skladba S3 | H143: 96.65 | AT143: VV | AU143: 2 | AV143: 2 | AW143: True | AX143: 0 | AY143: ROZPOCET
D144: VV | F144: (2,12+33,4+7,05+0,3+0,3+14,4+0,3+0,3+4,1+2,12)*(0,3+0,16+0,16+0,15) "vyrovnání nadřímsového žlabu | H144: 49.58 | AT144: VV | AU144: 2 | AV144: 2 | AW144: True | AX144: 0 | AY144: ROZPOCET
D145: VV | F145: Součet | H145: 146.23 | AT145: VV | AU145: 2 | AV145: 4 | AW145: True | AX145: 1 | AY145: ROZPOCET
C146: 7 | D146: K | E146: 636311112 | F146: Kladení dlažby z betonových dlaždic 40x40 cm na sucho na terče z umělé hmoty do výšky do 70 mm | G146: m2 | H146: 96.65 | J146: =ROUND(I146*H146,2) -> 0 | N146: snížená | P146: =O146*H146 -> 0 | Q146: 0.0032 | R146: =Q146*H146 -> 0.30928 | S146: 0 | T146: =S146*H146 -> 0 | AR146: 4 | AT146: K | AU146: 2 | AY146: ROZPOCET | BE146: =IF(N146="základní",J146,0) -> 0 | BF146: =IF(N146="snížená",J146,0) -> 0 | BG146: =IF(N146="zákl. přenesená",J146,0) -> 0 | BH146: =IF(N146="sníž. přenesená",J146,0) -> 0 | BI146: =IF(N146="nulová",J146,0) -> 0 | BJ146: 2 | BK146: =ROUND(I146*H146,2) -> 0 | BL146: 4 | BM146: -2114924721
D147: VV | F147: 6,035+11,73+12,07+11,56+5,95+18,02+6,38+7,82+17,085 "skladba S3 | H147: 96.65 | AT147: VV | AU147: 2 | AV147: 2 | AW147: True | AX147: 1 | AY147: ROZPOCET
C148: 8 | D148: M | E148: 59246002 | F148: dlažba plošná betonová terasová hladká 400x400x40mm | G148: m2 | H148: 106.32 | J148: =ROUND(I148*H148,2) -> 0 | N148: snížená | P148: =O148*H148 -> 0 | Q148: 0.08438 | R148: =Q148*H148 -> 8.9712816 | S148: 0 | T148: =S148*H148 -> 0 | AR148: 8 | AT148: M | AU148: 2 | AY148: ROZPOCET | BE148: =IF(N148="základní",J148,0) -> 0 | BF148: =IF(N148="snížená",J148,0) -> 0 | BG148: =IF(N148="zákl. přenesená",J148,0) -> 0 | BH148: =IF(N148="sníž. přenesená",J148,0) -> 0 | BI148: =IF(N148="nulová",J148,0) -> 0 | BJ148: 2 | BK148: =ROUND(I148*H148,2) -> 0 | BL148: 4 | BM148: -78775209
D149: VV | F149: 96,65*1,1 'Přepočtené koeficientem množství | H149: 106.32 | AT149: VV | AU149: 2 | AV149: 2 | AW149: False | AX149: 1 | AY149: ROZPOCET
D150: D | E150: 9 | F150: Ostatní konstrukce a práce, bourání | J150: =BK150 -> 0 | P150: =SUM(P151:P162) -> 0 | R150: =SUM(R151:R162) -> 1.085994 | T150: =SUM(T151:T162) -> 38.4745 | AR150: 1 | AT150: D | AU150: 1 | AY150: ROZPOCET | BK150: =SUM(BK151:BK162) -> 0
C151: 9 | D151: K | E151: 935932114 | F151: Odvodňovací plastový žlab pro zatížení A15 vnitřní š 100 mm s roštem můstkovým z nerez oceli | G151: m | H151: 12.6 | J151: =ROUND(I151*H151,2) -> 0 | N151: snížená | P151: =O151*H151 -> 0 | Q151: 0.08619 | R151: =Q151*H151 -> 1.085994 | S151: 0 | T151: =S151*H151 -> 0 | AR151: 4 | AT151: K | AU151: 2 | AY151: ROZPOCET | BE151: =IF(N151="základní",J151,0) -> 0 | BF151: =IF(N151="snížená",J151,0) -> 0 | BG151: =IF(N151="zákl. přenesená",J151,0) -> 0 | BH151: =IF(N151="sníž. přenesená",J151,0) -> 0 | BI151: =IF(N151="nulová",J151,0) -> 0 | BJ151: 2 | BK151: =ROUND(I151*H151,2) -> 0 | BL151: 4 | BM151: -1851157502
D152: VV | F152: 1,4*9 "dle DET G | H152: 12.6 | AT152: VV | AU152: 2 | AV152: 2 | AW152: True | AX152: 1 | AY152: ROZPOCET
C153: 10 | D153: K | E153: 945421110 | F153: Hydraulická zvedací plošina na automobilovém podvozku výška zdvihu do 18 m včetně obsluhy | G153: hod | H153: 200 | J153: =ROUND(I153*H153,2) -> 0 | N153: snížená | P153: =O153*H153 -> 0 | Q153: 0 | R153: =Q153*H153 -> 0 | S153: 0 | T153: =S153*H153 -> 0 | AR153: 4 | AT153: K | AU153: 2 | AY153: ROZPOCET | BE153: =IF(N153="základní",J153,0) -> 0 | BF153: =IF(N153="snížená",J153,0) -> 0 | BG153: =IF(N153="zákl. přenesená",J153,0) -> 0 | BH153: =IF(N153="sníž. přenesená",J153,0) -> 0 | BI153: =IF(N153="nulová",J153,0) -> 0 | BJ153: 2 | BK153: =ROUND(I153*H153,2) -> 0 | BL153: 4 | BM153: 203993395
D154: VV | F154: 20*10 "pro práce nadřímsové žlaby odhad 20 pracovních dní po 10 hodinách | H154: 200 | AT154: VV | AU154: 2 | AV154: 2 | AW154: True | AX154: 1 | AY154: ROZPOCET
C155: 11 | D155: K | E155: 952902021 | F155: Čištění budov zametení hladkých podlah | G155: m2 | H155: 96.65 | J155: =ROUND(I155*H155,2) -> 0 | N155: snížená | P155: =O155*H155 -> 0 | Q155: 0 | R155: =Q155*H155 -> 0 | S155: 0 | T155: =S155*H155 -> 0 | AR155: 4 | AT155: K | AU155: 2 | AY155: ROZPOCET | BE155: =IF(N155="základní",J155,0) -> 0 | BF155: =IF(N155="snížená",J155,0) -> 0 | BG155: =IF(N155="zákl. přenesená",J155,0) -> 0 | BH155: =IF(N155="sníž. přenesená",J155,0) -> 0 | BI155: =IF(N155="nulová",J155,0) -> 0 | BJ155: 2 | BK155: =ROUND(I155*H155,2) -> 0 | BL155: 4 | BM155: -612696352
D156: VV | F156: 6,035+11,73+12,07+11,56+5,95+18,02+6,38+7,82+17,085 "stávající skladba teras | H156: 96.65 | AT156: VV | AU156: 2 | AV156: 2 | AW156: True | AX156: 1 | AY156: ROZPOCET
C157: 12 | D157: K | E157: 965042141 | F157: Bourání podkladů pod dlažby nebo mazanin betonových nebo z litého asfaltu tl do 100 mm pl přes 4 m2 | G157: m3 | H157: 6.77 | J157: =ROUND(I157*H157,2) -> 0 | N157: snížená | P157: =O157*H157 -> 0 | Q157: 0 | R157: =Q157*H157 -> 0 | S157: 2.2 | T157: =S157*H157 -> 14.894 | AR157: 4 | AT157: K | AU157: 2 | AY157: ROZPOCET | BE157: =IF(N157="základní",J157,0) -> 0 | BF157: =IF(N157="snížená",J157,0) -> 0 | BG157: =IF(N157="zákl. přenesená",J157,0) -> 0 | BH157: =IF(N157="sníž. přenesená",J157,0) -> 0 | BI157: =IF(N157="nulová",J157,0) -> 0 | BJ157: 2 | BK157: =ROUND(I157*H157,2) -> 0 | BL157: 4 | BM157: -417845775
D158: VV | F158: (6,035+11,73+12,07+11,56+5,95+18,02+6,38+7,82+17,085)*0,07 "stávající skladba teras | H158: 6.77 | AT158: VV | AU158: 2 | AV158: 2 | AW158: True | AX158: 1 | AY158: ROZPOCET
C159: 13 | D159: K | E159: 965081333 | F159: Bourání podlah z dlaždic betonových, teracových nebo čedičových tl do 30 mm plochy přes 1 m2 | G159: m2 | H159: 96.65 | J159: =ROUND(I159*H159,2) -> 0 | N159: snížená | P159: =O159*H159 -> 0 | Q159: 0 | R159: =Q159*H159 -> 0 | S159: 0.09 | T159: =S159*H159 -> 8.6985 | AR159: 4 | AT159: K | AU159: 2 | AY159: ROZPOCET | BE159: =IF(N159="základní",J159,0) -> 0 | BF159: =IF(N159="snížená",J159,0) -> 0 | BG159: =IF(N159="zákl. přenesená",J159,0) -> 0 | BH159: =IF(N159="sníž. přenesená",J159,0) -> 0 | BI159: =IF(N159="nulová",J159,0) -> 0 | BJ159: 2 | BK159: =ROUND(I159*H159,2) -> 0 | BL159: 4 | BM159: 723155015
D160: VV | F160: 6,035+11,73+12,07+11,56+5,95+18,02+6,38+7,82+17,085 "stávající skladba teras | H160: 96.65 | AT160: VV | AU160: 2 | AV160: 2 | AW160: True | AX160: 1 | AY160: ROZPOCET
C161: 14 | D161: K | E161: 965082923 | F161: Odstranění násypů pod podlahami tl do 100 mm pl přes 2 m2 | G161: m3 | H161: 10.63 | J161: =ROUND(I161*H161,2) -> 0 | N161: snížená | P161: =O161*H161 -> 0 | Q161: 0 | R161: =Q161*H161 -> 0 | S161: 1.4 | T161: =S161*H161 -> 14.882 | AR161: 4 | AT161: K | AU161: 2 | AY161: ROZPOCET | BE161: =IF(N161="základní",J161,0) -> 0 | BF161: =IF(N161="snížená",J161,0) -> 0 | BG161: =IF(N161="zákl. přenesená",J161,0) -> 0 | BH161: =IF(N161="sníž. přenesená",J161,0) -> 0 | BI161: =IF(N161="nulová",J161,0) -> 0 | BJ161: 2 | BK161: =ROUND(I161*H161,2) -> 0 | BL161: 4 | BM161: -762795686
D162: VV | F162: (6,035+11,73+12,07+11,56+5,95+18,02+6,38+7,82+17,085)*0,11 "stávající skladba teras | H162: 10.63 | AT162: VV | AU162: 2 | AV162: 2 | AW162: True | AX162: 1 | AY162: ROZPOCET
D163: D | E163: 997 | F163: Přesun sutě | J163: =BK163 -> 0 | P163: =SUM(P164:P169) -> 0 | R163: =SUM(R164:R169) -> 0 | T163: =SUM(T164:T169) -> 0 | AR163: 1 | AT163: D | AU163: 1 | AY163: ROZPOCET | BK163: =SUM(BK164:BK169) -> 0
C164: 15 | D164: K | E164: 997002611 | F164: Nakládání suti a vybouraných hmot | G164: t | H164: 41.27 | J164: =ROUND(I164*H164,2) -> 0 | N164: snížená | P164: =O164*H164 -> 0 | Q164: 0 | R164: =Q164*H164 -> 0 | S164: 0 | T164: =S164*H164 -> 0 | AR164: 4 | AT164: K | AU164: 2 | AY164: ROZPOCET | BE164: =IF(N164="základní",J164,0) -> 0 | BF164: =IF(N164="snížená",J164,0) -> 0 | BG164: =IF(N164="zákl. přenesená",J164,0) -> 0 | BH164: =IF(N164="sníž. přenesená",J164,0) -> 0 | BI164: =IF(N164="nulová",J164,0) -> 0 | BJ164: 2 | BK164: =ROUND(I164*H164,2) -> 0 | BL164: 4 | BM164: 1858188831
C165: 16 | D165: K | E165: 997013215 | F165: Vnitrostaveništní doprava suti a vybouraných hmot pro budovy v do 18 m ručně | G165: t | H165: 41.27 | J165: =ROUND(I165*H165,2) -> 0 | N165: snížená | P165: =O165*H165 -> 0 | Q165: 0 | R165: =Q165*H165 -> 0 | S165: 0 | T165: =S165*H165 -> 0 | AR165: 4 | AT165: K | AU165: 2 | AY165: ROZPOCET | BE165: =IF(N165="základní",J165,0) -> 0 | BF165: =IF(N165="snížená",J165,0) -> 0 | BG165: =IF(N165="zákl. přenesená",J165,0) -> 0 | BH165: =IF(N165="sníž. přenesená",J165,0) -> 0 | BI165: =IF(N165="nulová",J165,0) -> 0 | BJ165: 2 | BK165: =ROUND(I165*H165,2) -> 0 | BL165: 4 | BM165: -1306726632
C166: 17 | D166: K | E166: 997013501 | F166: Odvoz suti a vybouraných hmot na skládku nebo meziskládku do 1 km se složením | G166: t | H166: 41.27 | J166: =ROUND(I166*H166,2) -> 0 | N166: snížená | P166: =O166*H166 -> 0 | Q166: 0 | R166: =Q166*H166 -> 0 | S166: 0 | T166: =S166*H166 -> 0 | AR166: 4 | AT166: K | AU166: 2 | AY166: ROZPOCET | BE166: =IF(N166="základní",J166,0) -> 0 | BF166: =IF(N166="snížená",J166,0) -> 0 | BG166: =IF(N166="zákl. přenesená",J166,0) -> 0 | BH166: =IF(N166="sníž. přenesená",J166,0) -> 0 | BI166: =IF(N166="nulová",J166,0) -> 0 | BJ166: 2 | BK166: =ROUND(I166*H166,2) -> 0 | BL166: 4 | BM166: -1721116387
...

Sheet 03 - Vedlejší rozpočtové ...
L2: >> skryté sloupce << | AT2: {1ef61767-b5b3-4f64-8ee5-1e5d2d1188dd}
AT3: 1
D4: KRYCÍ LIST SOUPISU PRACÍ | M4: v --- níže se nacházejí doplnkové a pomocné údaje k sestavám --- v | AT4: False
D6: Stavba:
E7: ='Rekapitulace stavby'!K6 -> Oprava střechy a teras, Bělohorská 1688-1689, Praha 6
D8: Objekt:
E9: 03 - Vedlejší rozpočtové náklady
D11: KSO: | I11: CC-CZ:
D12: Místo: | F12: Bělohorská 1688-1689, Praha 6 - Břevnov | I12: Datum: | J12: ='Rekapitulace stavby'!AN8 -> 11. 6. 2021
D14: Zadavatel: | I14: IČ:
E15: AUSTIS-REAL s.r.o., Pod Marjánkou 1675/41, Praha 6 | I15: DIČ:
D17: Uchazeč: | I17: IČ: | J17: ='Rekapitulace stavby'!AN13 -> Vyplň údaj
E18: ='Rekapitulace stavby'!E14 -> Vyplň údaj | I18: DIČ: | J18: ='Rekapitulace stavby'!AN14 -> Vyplň údaj
D20: Projektant: | I20: IČ:
E21: Ing. Jan Vojtěchovský | I21: DIČ:
D23: Zpracovatel: | I23: IČ:
E24: Ing. Petr Kopecký | I24: DIČ:
D26: Poznámka:
D30: Cena bez DPH | J30: =ROUND(J123, 2) -> 0
F32: Základ daně | I32: Sazba daně | J32: Výše daně
D33: DPH | E33: základní | F33: =ROUND((ROUND((SUM(BE123:BE139)), 2) + SUM(BE141:BE190)), 2) -> 0 | I33: 0.21 | J33: =ROUND((ROUND(((SUM(BE123:BE139))*I33), 2) + (SUM(BE141:BE190)*I33)), 2) -> 0
E34: snížená | F34: =ROUND((ROUND((SUM(BF123:BF139)), 2) + SUM(BF141:BF190)), 2) -> 0 | I34: 0.15 | J34: =ROUND((ROUND(((SUM(BF123:BF139))*I34), 2) + (SUM(BF141:BF190)*I34)), 2) -> 0
E35: zákl. přenesená | F35: =ROUND((ROUND((SUM(BG123:BG139)), 2) + SUM(BG141:BG190)), 2) -> 0 | I35: 0.21 | J35: =0 -> 0
E36: sníž. přenesená | F36: =ROUND((ROUND((SUM(BH123:BH139)), 2) + SUM(BH141:BH190)), 2) -> 0 | I36: 0.15 | J36: =0 -> 0
E37: nulová | F37: =ROUND((ROUND((SUM(BI123:BI139)), 2) + SUM(BI141:BI190)), 2) -> 0 | I37: 0 | J37: =0 -> 0
D39: Cena s DPH | G39: v | H39: CZK | J39: =SUM(J30:J37) -> 0
D50: Projektant | G50: Zpracovatel
D61: Datum a podpis: | F61: Razítko | G61: Datum a podpis: | J61: Razítko
D65: Objednavatel | G65: Uchazeč
D76: Datum a podpis: | F76: Razítko | G76: Datum a podpis: | J76: Razítko
C82: REKAPITULACE ČLENĚNÍ SOUPISU PRACÍ
C84: Stavba:
E85: =E7 -> Oprava střechy a teras, Bělohorská 1688-1689, Praha 6
C86: Objekt:
E87: =E9 -> 03 - Vedlejší rozpočtové náklady
C89: Místo: | F89: =F12 -> Bělohorská 1688-1689, Praha 6 - Břevnov | I89: Datum: | J89: =IF(J12="","",J12) -> 11. 6. 2021
C91: Zadavatel: | F91: =E15 -> AUSTIS-REAL s.r.o., Pod Marjánkou 1675/41, Praha 6 | I91: Projektant: | J91: =E21 -> Ing. Jan Vojtěchovský
C92: Uchazeč: | F92: =IF(E18="","",E18) -> Vyplň údaj | I92: Zpracovatel: | J92: =E24 -> Ing. Petr Kopecký
C94: Kód dílu - Popis | J94: Cena celkem [CZK]
C96: Náklady ze soupisu prací | J96: =J123 -> 0 | AU96: -1
D97: VRN - Vedlejší rozpočtové náklady | J97: =J124 -> 0
D98: VRN1 - Průzkumné, geodetické a projektové práce | J98: =J125 -> 0
D99: VRN2 - Příprava staveniště | J99: =J127 -> 0
D100: VRN3 - Zařízení staveniště | J100: =J129 -> 0
D101: VRN6 - Územní vlivy | J101: =J135 -> 0
D102: VRN9 - Ostatní náklady | J102: =J138 -> 0
D103: VP - Vícepráce | J103: =J140 -> 0
C110: SOUPIS PRACÍ
C112: Stavba:
E113: =E7 -> Oprava střechy a teras, Bělohorská 1688-1689, Praha 6
C114: Objekt:
E115: =E9 -> 03 - Vedlejší rozpočtové náklady
C117: Místo: | F117: =F12 -> Bělohorská 1688-1689, Praha 6 - Břevnov | I117: Datum: | J117: =IF(J12="","",J12) -> 11. 6. 2021
C119: Zadavatel: | F119: =E15 -> AUSTIS-REAL s.r.o., Pod Marjánkou 1675/41, Praha 6 | I119: Projektant: | J119: =E21 -> Ing. Jan Vojtěchovský
C120: Uchazeč: | F120: =IF(E18="","",E18) -> Vyplň údaj | I120: Zpracovatel: | J120: =E24 -> Ing. Petr Kopecký
C122: PČ | D122: Typ | E122: Kód | F122: Popis | G122: MJ | H122: Množství | I122: J.cena [CZK] | J122: Cena celkem [CZK] | K122: Cenová soustava | N122: DPH | O122: J. Nh [h] | P122: Nh celkem [h] | Q122: J. hmotnost [t] | R122: Hmotnost celkem [t] | S122: J. suť [t] | T122: Suť Celkem [t]
C123: Náklady soupisu celkem | J123: =BK123 -> 0 | P123: =P124+P140 -> 0 | R123: =R124+R140 -> 0 | T123: =T124+T140 -> 0 | AT123: D | AU123: -1 | BK123: =BK124+BK140 -> 0
D124: D | E124: VRN | F124: Vedlejší rozpočtové náklady | J124: =BK124 -> 0 | P124: =P125+P127+P129+P135+P138 -> 0 | R124: =R125+R127+R129+R135+R138 -> 0 | T124: =T125+T127+T129+T135+T138 -> 0 | AR124: 5 | AT124: D | AU124: 0 | AY124: ROZPOCET | BK124: =BK125+BK127+BK129+BK135+BK138 -> 0
D125: D | E125: VRN1 | F125: Průzkumné, geodetické a projektové práce | J125: =BK125 -> 0 | P125: =P126 -> 0 | R125: =R126 -> 0 | T125: =T126 -> 0 | AR125: 5 | AT125: D | AU125: 1 | AY125: ROZPOCET | BK125: =BK126 -> 0
C126: 1 | D126: K | E126: 013274000 | F126: Pasportizace objektu před započetím prací | G126: kpl. | H126: 1 | J126: =ROUND(I126*H126,2) -> 0 | N126: snížená | P126: =O126*H126 -> 0 | Q126: 0 | R126: =Q126*H126 -> 0 | S126: 0 | T126: =S126*H126 -> 0 | AR126: 1024 | AT126: K | AU126: 2 | AY126: ROZPOCET | BE126: =IF(N126="základní",J126,0) -> 0 | BF126: =IF(N126="snížená",J126,0) -> 0 | BG126: =IF(N126="zákl. přenesená",J126,0) -> 0 | BH126: =IF(N126="sníž. přenesená",J126,0) -> 0 | BI126: =IF(N126="nulová",J126,0) -> 0 | BJ126: 2 | BK126: =ROUND(I126*H126,2) -> 0 | BL126: 1024 | BM126: 2013791253
D127: D | E127: VRN2 | F127: Příprava staveniště | J127: =BK127 -> 0 | P127: =P128 -> 0 | R127: =R128 -> 0 | T127: =T128 -> 0 | AR127: 5 | AT127: D | AU127: 1 | AY127: ROZPOCET | BK127: =BK128 -> 0
C128: 2 | D128: K | E128: 020001000 | F128: Příprava staveniště | G128: kpl. | H128: 1 | J128: =ROUND(I128*H128,2) -> 0 | N128: snížená | P128: =O128*H128 -> 0 | Q128: 0 | R128: =Q128*H128 -> 0 | S128: 0 | T128: =S128*H128 -> 0 | AR128: 1024 | AT128: K | AU128: 2 | AY128: ROZPOCET | BE128: =IF(N128="základní",J128,0) -> 0 | BF128: =IF(N128="snížená",J128,0) -> 0 | BG128: =IF(N128="zákl. přenesená",J128,0) -> 0 | BH128: =IF(N128="sníž. přenesená",J128,0) -> 0 | BI128: =IF(N128="nulová",J128,0) -> 0 | BJ128: 2 | BK128: =ROUND(I128*H128,2) -> 0 | BL128: 1024 | BM128: 1814098743
D129: D | E129: VRN3 | F129: Zařízení staveniště | J129: =BK129 -> 0 | P129: =SUM(P130:P134) -> 0 | R129: =SUM(R130:R134) -> 0 | T129: =SUM(T130:T134) -> 0 | AR129: 5 | AT129: D | AU129: 1 | AY129: ROZPOCET | BK129: =SUM(BK130:BK134) -> 0
C130: 3 | D130: K | E130: 030001000 | F130: Zařízení staveniště | G130: kpl. | H130: 1 | J130: =ROUND(I130*H130,2) -> 0 | N130: snížená | P130: =O130*H130 -> 0 | Q130: 0 | R130: =Q130*H130 -> 0 | S130: 0 | T130: =S130*H130 -> 0 | AR130: 1024 | AT130: K | AU130: 2 | AY130: ROZPOCET | BE130: =IF(N130="základní",J130,0) -> 0 | BF130: =IF(N130="snížená",J130,0) -> 0 | BG130: =IF(N130="zákl. přenesená",J130,0) -> 0 | BH130: =IF(N130="sníž. přenesená",J130,0) -> 0 | BI130: =IF(N130="nulová",J130,0) -> 0 | BJ130: 2 | BK130: =ROUND(I130*H130,2) -> 0 | BL130: 1024 | BM130: 1633060334
C131: 4 | D131: K | E131: 034103000 | F131: Oplocení staveniště | G131: kpl. | H131: 1 | J131: =ROUND(I131*H131,2) -> 0 | N131: snížená | P131: =O131*H131 -> 0 | Q131: 0 | R131: =Q131*H131 -> 0 | S131: 0 | T131: =S131*H131 -> 0 | AR131: 1024 | AT131: K | AU131: 2 | AY131: ROZPOCET | BE131: =IF(N131="základní",J131,0) -> 0 | BF131: =IF(N131="snížená",J131,0) -> 0 | BG131: =IF(N131="zákl. přenesená",J131,0) -> 0 | BH131: =IF(N131="sníž. přenesená",J131,0) -> 0 | BI131: =IF(N131="nulová",J131,0) -> 0 | BJ131: 2 | BK131: =ROUND(I131*H131,2) -> 0 | BL131: 1024 | BM131: 1388889532
C132: 5 | D132: K | E132: 034503000 | F132: Informační tabule na staveništi | G132: kpl. | H132: 1 | J132: =ROUND(I132*H132,2) -> 0 | N132: snížená | P132: =O132*H132 -> 0 | Q132: 0 | R132: =Q132*H132 -> 0 | S132: 0 | T132: =S132*H132 -> 0 | AR132: 1024 | AT132: K | AU132: 2 | AY132: ROZPOCET | BE132: =IF(N132="základní",J132,0) -> 0 | BF132: =IF(N132="snížená",J132,0) -> 0 | BG132: =IF(N132="zákl. přenesená",J132,0) -> 0 | BH132: =IF(N132="sníž. přenesená",J132,0) -> 0 | BI132: =IF(N132="nulová",J132,0) -> 0 | BJ132: 2 | BK132: =ROUND(I132*H132,2) -> 0 | BL132: 1024 | BM132: 581597573
C133: 6 | D133: K | E133: 035103001 | F133: Pronájem ploch (zábor chodníku) | G133: kpl. | H133: 1 | J133: =ROUND(I133*H133,2) -> 0 | N133: snížená | P133: =O133*H133 -> 0 | Q133: 0 | R133: =Q133*H133 -> 0 | S133: 0 | T133: =S133*H133 -> 0 | AR133: 1024 | AT133: K | AU133: 2 | AY133: ROZPOCET | BE133: =IF(N133="základní",J133,0) -> 0 | BF133: =IF(N133="snížená",J133,0) -> 0 | BG133: =IF(N133="zákl. přenesená",J133,0) -> 0 | BH133: =IF(N133="sníž. přenesená",J133,0) -> 0 | BI133: =IF(N133="nulová",J133,0) -> 0 | BJ133: 2 | BK133: =ROUND(I133*H133,2) -> 0 | BL133: 1024 | BM133: -18458240
C134: 7 | D134: K | E134: 039002000 | F134: Zrušení zařízení staveniště | G134: kpl. | H134: 1 | J134: =ROUND(I134*H134,2) -> 0 | N134: snížená | P134: =O134*H134 -> 0 | Q134: 0 | R134: =Q134*H134 -> 0 | S134: 0 | T134: =S134*H134 -> 0 | AR134: 1024 | AT134: K | AU134: 2 | AY134: ROZPOCET | BE134: =IF(N134="základní",J134,0) -> 0 | BF134: =IF(N134="snížená",J134,0) -> 0 | BG134: =IF(N134="zákl. přenesená",J134,0) -> 0 | BH134: =IF(N134="sníž. přenesená",J134,0) -> 0 | BI134: =IF(N134="nulová",J134,0) -> 0 | BJ134: 2 | BK134: =ROUND(I134*H134,2) -> 0 | BL134: 1024 | BM134: -122991085
D135: D | E135: VRN6 | F135: Územní vlivy | J135: =BK135 -> 0 | P135: =SUM(P136:P137) -> 0 | R135: =SUM(R136:R137) -> 0 | T135: =SUM(T136:T137) -> 0 | AR135: 5 | AT135: D | AU135: 1 | AY135: ROZPOCET | BK135: =SUM(BK136:BK137) -> 0
C136: 8 | D136: K | E136: 063002000 | F136: Práce na těžce přístupných místech | G136: kpl. | H136: 1 | J136: =ROUND(I136*H136,2) -> 0 | N136: snížená | P136: =O136*H136 -> 0 | Q136: 0 | R136: =Q136*H136 -> 0 | S136: 0 | T136: =S136*H136 -> 0 | AR136: 1024 | AT136: K | AU136: 2 | AY136: ROZPOCET | BE136: =IF(N136="základní",J136,0) -> 0 | BF136: =IF(N136="snížená",J136,0) -> 0 | BG136: =IF(N136="zákl. přenesená",J136,0) -> 0 | BH136: =IF(N136="sníž. přenesená",J136,0) -> 0 | BI136: =IF(N136="nulová",J136,0) -> 0 | BJ136: 2 | BK136: =ROUND(I136*H136,2) -> 0 | BL136: 1024 | BM136: 566238033
C137: 9 | D137: K | E137: 065002000 | F137: Mimostaveništní doprava materiálů | G137: kpl. | H137: 1 | J137: =ROUND(I137*H137,2) -> 0 | N137: snížená | P137: =O137*H137 -> 0 | Q137: 0 | R137: =Q137*H137 -> 0 | S137: 0 | T137: =S137*H137 -> 0 | AR137: 1024 | AT137: K | AU137: 2 | AY137: ROZPOCET | BE137: =IF(N137="základní",J137,0) -> 0 | BF137: =IF(N137="snížená",J137,0) -> 0 | BG137: =IF(N137="zákl. přenesená",J137,0) -> 0 | BH137: =IF(N137="sníž. přenesená",J137,0) -> 0 | BI137: =IF(N137="nulová",J137,0) -> 0 | BJ137: 2 | BK137: =ROUND(I137*H137,2) -> 0 | BL137: 1024 | BM137: -1659668111
D138: D | E138: VRN9 | F138: Ostatní náklady | J138: =BK138 -> 0 | P138: =P139 -> 0 | R138: =R139 -> 0 | T138: =T139 -> 0 | AR138: 5 | AT138: D | AU138: 1 | AY138: ROZPOCET | BK138: =BK139 -> 0
C139: 10 | D139: K | E139: 091003000 | F139: Ostatní náklady bez rozlišení | G139: kpl. | H139: 1 | J139: =ROUND(I139*H139,2) -> 0 | N139: snížená | P139: =O139*H139 -> 0 | Q139: 0 | R139: =Q139*H139 -> 0 | S139: 0 | T139: =S139*H139 -> 0 | AR139: 1024 | AT139: K | AU139: 2 | AY139: ROZPOCET | BE139: =IF(N139="základní",J139,0) -> 0 | BF139: =IF(N139="snížená",J139,0) -> 0 | BG139: =IF(N139="zákl. přenesená",J139,0) -> 0 | BH139: =IF(N139="sníž. přenesená",J139,0) -> 0 | BI139: =IF(N139="nulová",J139,0) -> 0 | BJ139: 2 | BK139: =ROUND(I139*H139,2) -> 0 | BL139: 1024 | BM139: 1516624386
E140: VP | F140: Vícepráce | J140: =BK140 -> 0 | AT140: D | AU140: 0 | AY140: PN | BK140: =SUM(BK141:BK190) -> 0
D141: K | J141: =BK141 -> 0 | N141: snížená | AT141: PN | AU141: 1 | AY141: PN | BE141: =IF(N141="základní",J141,0) -> 0 | BF141: =IF(N141="snížená",J141,0) -> 0 | BG141: =IF(N141="zákl. přenesená",J141,0) -> 0 | BH141: =IF(N141="sníž. přenesená",J141,0) -> 0 | BI141: =IF(N141="nulová",J141,0) -> 0 | BJ141: 2 | BK141: =I141*H141 -> 0
D142: K | J142: =BK142 -> 0 | N142: snížená | AT142: PN | AU142: 1 | AY142: PN | BE142: =IF(N142="základní",J142,0) -> 0 | BF142: =IF(N142="snížená",J142,0) -> 0 | BG142: =IF(N142="zákl. přenesená",J142,0) -> 0 | BH142: =IF(N142="sníž. přenesená",J142,0) -> 0 | BI142: =IF(N142="nulová",J142,0) -> 0 | BJ142: 2 | BK142: =I142*H142 -> 0
D143: K | J143: =BK143 -> 0 | N143: snížená | AT143: PN | AU143: 1 | AY143: PN | BE143: =IF(N143="základní",J143,0) -> 0 | BF143: =IF(N143="snížená",J143,0) -> 0 | BG143: =IF(N143="zákl. přenesená",J143,0) -> 0 | BH143: =IF(N143="sníž. přenesená",J143,0) -> 0 | BI143: =IF(N143="nulová",J143,0) -> 0 | BJ143: 2 | BK143: =I143*H143 -> 0
D144: K | J144: =BK144 -> 0 | N144: snížená | AT144: PN | AU144: 1 | AY144: PN | BE144: =IF(N144="základní",J144,0) -> 0 | BF144: =IF(N144="snížená",J144,0) -> 0 | BG144: =IF(N144="zákl. přenesená",J144,0) -> 0 | BH144: =IF(N144="sníž. přenesená",J144,0) -> 0 | BI144: =IF(N144="nulová",J144,0) -> 0 | BJ144: 2 | BK144: =I144*H144 -> 0
D145: K | J145: =BK145 -> 0 | N145: snížená | AT145: PN | AU145: 1 | AY145: PN | BE145: =IF(N145="základní",J145,0) -> 0 | BF145: =IF(N145="snížená",J145,0) -> 0 | BG145: =IF(N145="zákl. přenesená",J145,0) -> 0 | BH145: =IF(N145="sníž. přenesená",J145,0) -> 0 | BI145: =IF(N145="nulová",J145,0) -> 0 | BJ145: 2 | BK145: =I145*H145 -> 0
D146: K | J146: =BK146 -> 0 | N146: snížená | AT146: PN | AU146: 1 | AY146: PN | BE146: =IF(N146="základní",J146,0) -> 0 | BF146: =IF(N146="snížená",J146,0) -> 0 | BG146: =IF(N146="zákl. přenesená",J146,0) -> 0 | BH146: =IF(N146="sníž. přenesená",J146,0) -> 0 | BI146: =IF(N146="nulová",J146,0) -> 0 | BJ146: 2 | BK146: =I146*H146 -> 0
D147: K | J147: =BK147 -> 0 | N147: snížená | AT147: PN | AU147: 1 | AY147: PN | BE147: =IF(N147="základní",J147,0) -> 0 | BF147: =IF(N147="snížená",J147,0) -> 0 | BG147: =IF(N147="zákl. přenesená",J147,0) -> 0 | BH147: =IF(N147="sníž. přenesená",J147,0) -> 0 | BI147: =IF(N147="nulová",J147,0) -> 0 | BJ147: 2 | BK147: =I147*H147 -> 0
D148: K | J148: =BK148 -> 0 | N148: snížená | AT148: PN | AU148: 1 | AY148: PN | BE148: =IF(N148="základní",J148,0) -> 0 | BF148: =IF(N148="snížená",J148,0) -> 0 | BG148: =IF(N148="zákl. přenesená",J148,0) -> 0 | BH148: =IF(N148="sníž. přenesená",J148,0) -> 0 | BI148: =IF(N148="nulová",J148,0) -> 0 | BJ148: 2 | BK148: =I148*H148 -> 0
D149: K | J149: =BK149 -> 0 | N149: snížená | AT149: PN | AU149: 1 | AY149: PN | BE149: =IF(N149="základní",J149,0) -> 0 | BF149: =IF(N149="snížená",J149,0) -> 0 | BG149: =IF(N149="zákl. přenesená",J149,0) -> 0 | BH149: =IF(N149="sníž. přenesená",J149,0) -> 0 | BI149: =IF(N149="nulová",J149,0) -> 0 | BJ149: 2 | BK149: =I149*H149 -> 0
D150: K | J150: =BK150 -> 0 | N150: snížená | AT150: PN | AU150: 1 | AY150: PN | BE150: =IF(N150="základní",J150,0) -> 0 | BF150: =IF(N150="snížená",J150,0) -> 0 | BG150: =IF(N150="zákl. přenesená",J150,0) -> 0 | BH150: =IF(N150="sníž. přenesená",J150,0) -> 0 | BI150: =IF(N150="nulová",J150,0) -> 0 | BJ150: 2 | BK150: =I150*H150 -> 0
D151: K | J151: =BK151 -> 0 | N151: snížená | AT151: PN | AU151: 1 | AY151: PN | BE151: =IF(N151="základní",J151,0) -> 0 | BF151: =IF(N151="snížená",J151,0) -> 0 | BG151: =IF(N151="zákl. přenesená",J151,0) -> 0 | BH151: =IF(N151="sníž. přenesená",J151,0) -> 0 | BI151: =IF(N151="nulová",J151,0) -> 0 | BJ151: 2 | BK151: =I151*H151 -> 0
D152: K | J152: =BK152 -> 0 | N152: snížená | AT152: PN | AU152: 1 | AY152: PN | BE152: =IF(N152="základní",J152,0) -> 0 | BF152: =IF(N152="snížená",J152,0) -> 0 | BG152: =IF(N152="zákl. přenesená",J152,0) -> 0 | BH152: =IF(N152="sníž. přenesená",J152,0) -> 0 | BI152: =IF(N152="nulová",J152,0) -> 0 | BJ152: 2 | BK152: =I152*H152 -> 0
... D190: K | J190: =BK190 -> 0 | N190: snížená | AT190: PN | AU190: 1 | AY190: PN | BE190: =IF(N190="základní",J190,0) -> 0 | BF190: =IF(N190="snížená",J190,0) -> 0 | BG190: =IF(N190="zákl. přenesená",J190,0) -> 0 | BH190: =IF(N190="sníž. přenesená",J190,0) -> 0 | BI190: =IF(N190="nulová",J190,0) -> 0 | BJ190: 2 | BK190: =I190*H190 -> 0
